BEGIN:VCALENDAR
VERSION:2.0
PRODID:-//Predator Ridge Community Safety - ECPv6.15.20//NONSGML v1.0//EN
CALSCALE:GREGORIAN
METHOD:PUBLISH
X-ORIGINAL-URL:https://prcemc.ca
X-WR-CALDESC:Events for Predator Ridge Community Safety
REFRESH-INTERVAL;VALUE=DURATION:PT1H
X-Robots-Tag:noindex
X-PUBLISHED-TTL:PT1H
BEGIN:VTIMEZONE
TZID:America/Vancouver
BEGIN:DAYLIGHT
TZOFFSETFROM:-0800
TZOFFSETTO:-0700
TZNAME:PDT
DTSTART:20250309T100000
END:DAYLIGHT
BEGIN:STANDARD
TZOFFSETFROM:-0700
TZOFFSETTO:-0800
TZNAME:PST
DTSTART:20251102T090000
END:STANDARD
BEGIN:DAYLIGHT
TZOFFSETFROM:-0800
TZOFFSETTO:-0700
TZNAME:PDT
DTSTART:20260308T100000
END:DAYLIGHT
BEGIN:STANDARD
TZOFFSETFROM:-0700
TZOFFSETTO:-0800
TZNAME:PST
DTSTART:20261101T090000
END:STANDARD
BEGIN:DAYLIGHT
TZOFFSETFROM:-0800
TZOFFSETTO:-0700
TZNAME:PDT
DTSTART:20270314T100000
END:DAYLIGHT
BEGIN:STANDARD
TZOFFSETFROM:-0700
TZOFFSETTO:-0800
TZNAME:PST
DTSTART:20271107T090000
END:STANDARD
END:VTIMEZONE
BEGIN:VEVENT
DTSTART;TZID=America/Vancouver:20260701T140000
DTEND;TZID=America/Vancouver:20260701T140100
DTSTAMP:20260423T132034
CREATED:20230518T231420Z
LAST-MODIFIED:20230518T231420Z
UID:10000091-1782914400-1782914460@prcemc.ca
SUMMARY:DC Siren Growl Test
DESCRIPTION:Test of the DC circuits (battery backup) – performs a low volume short siren GROWL
URL:https://prcemc.ca/event/dc-siren-growl-test/2026-07-01/
LOCATION:Fire Station #3 70 Predator Ridge Drive\, Vernon\, BC\, 70 Predator Ridge Drive\, Vernon\, BC\, Canada
CATEGORIES:Siren Growl Test
ATTACH;FMTTYPE=image/png:https://prcemc.ca/wp-content/uploads/2023/02/T-128-Photo-250x250-1.png
ORGANIZER;CN="PRCS":MAILTO:info@prcemc.ca
END:VEVENT
END:VCALENDAR