BEGIN:VCALENDAR
VERSION:2.0
PRODID:-//Predator Ridge Community Safety - ECPv6.15.20//NONSGML v1.0//EN
CALSCALE:GREGORIAN
METHOD:PUBLISH
X-WR-CALNAME:Predator Ridge Community Safety
X-ORIGINAL-URL:https://prcemc.ca
X-WR-CALDESC:Events for Predator Ridge Community Safety
REFRESH-INTERVAL;VALUE=DURATION:PT1H
X-Robots-Tag:noindex
X-PUBLISHED-TTL:PT1H
BEGIN:VTIMEZONE
TZID:America/Vancouver
BEGIN:DAYLIGHT
TZOFFSETFROM:-0800
TZOFFSETTO:-0700
TZNAME:PDT
DTSTART:20180311T100000
END:DAYLIGHT
BEGIN:STANDARD
TZOFFSETFROM:-0700
TZOFFSETTO:-0800
TZNAME:PST
DTSTART:20181104T090000
END:STANDARD
BEGIN:DAYLIGHT
TZOFFSETFROM:-0800
TZOFFSETTO:-0700
TZNAME:PDT
DTSTART:20190310T100000
END:DAYLIGHT
BEGIN:STANDARD
TZOFFSETFROM:-0700
TZOFFSETTO:-0800
TZNAME:PST
DTSTART:20191103T090000
END:STANDARD
BEGIN:DAYLIGHT
TZOFFSETFROM:-0800
TZOFFSETTO:-0700
TZNAME:PDT
DTSTART:20200308T100000
END:DAYLIGHT
BEGIN:STANDARD
TZOFFSETFROM:-0700
TZOFFSETTO:-0800
TZNAME:PST
DTSTART:20201101T090000
END:STANDARD
BEGIN:DAYLIGHT
TZOFFSETFROM:-0800
TZOFFSETTO:-0700
TZNAME:PDT
DTSTART:20210314T100000
END:DAYLIGHT
BEGIN:STANDARD
TZOFFSETFROM:-0700
TZOFFSETTO:-0800
TZNAME:PST
DTSTART:20211107T090000
END:STANDARD
BEGIN:DAYLIGHT
TZOFFSETFROM:-0800
TZOFFSETTO:-0700
TZNAME:PDT
DTSTART:20220313T100000
END:DAYLIGHT
BEGIN:STANDARD
TZOFFSETFROM:-0700
TZOFFSETTO:-0800
TZNAME:PST
DTSTART:20221106T090000
END:STANDARD
BEGIN:DAYLIGHT
TZOFFSETFROM:-0800
TZOFFSETTO:-0700
TZNAME:PDT
DTSTART:20230312T100000
END:DAYLIGHT
BEGIN:STANDARD
TZOFFSETFROM:-0700
TZOFFSETTO:-0800
TZNAME:PST
DTSTART:20231105T090000
END:STANDARD
BEGIN:DAYLIGHT
TZOFFSETFROM:-0800
TZOFFSETTO:-0700
TZNAME:PDT
DTSTART:20240310T100000
END:DAYLIGHT
BEGIN:STANDARD
TZOFFSETFROM:-0700
TZOFFSETTO:-0800
TZNAME:PST
DTSTART:20241103T090000
END:STANDARD
BEGIN:DAYLIGHT
TZOFFSETFROM:-0800
TZOFFSETTO:-0700
TZNAME:PDT
DTSTART:20250309T100000
END:DAYLIGHT
BEGIN:STANDARD
TZOFFSETFROM:-0700
TZOFFSETTO:-0800
TZNAME:PST
DTSTART:20251102T090000
END:STANDARD
BEGIN:DAYLIGHT
TZOFFSETFROM:-0800
TZOFFSETTO:-0700
TZNAME:PDT
DTSTART:20260308T100000
END:DAYLIGHT
BEGIN:STANDARD
TZOFFSETFROM:-0700
TZOFFSETTO:-0800
TZNAME:PST
DTSTART:20261101T090000
END:STANDARD
END:VTIMEZONE
BEGIN:VEVENT
DTSTART;TZID=America/Vancouver:20251026T083000
DTEND;TZID=America/Vancouver:20251026T130000
DTSTAMP:20260423T155527
CREATED:20250921T202235Z
LAST-MODIFIED:20250921T202235Z
UID:10000112-1761467400-1761483600@prcemc.ca
SUMMARY:FireSmart Community Cleanup Event
DESCRIPTION:Dear Neighbours\, \nAre you looking to learn more about FireSmart and what you can do to protect your home and community? \nJoin us at our upcoming clean-up event and learn what you can do to FireSmart your property.  You can also visit the PRCEMC website at: PRCEMC.ca/FireSmart for more information and FireSmart resources. \nCLEAN-UP EVENT:  Commonage Neighbourhood \nDATE:  Sunday\, October 26\, 2025 \nThe FireSmart Committee is excited to announce that the Commonage neighbourhood will be the site of our next FireSmart clean-up event.  The area to be cleaned is the common property and park area directly below the Dog Park. \nThe committee is currently looking for volunteers to assist with the clean-up and welcome all helping hands. Our collective efforts will help make our community a safer place to live. \nWater and snacks will be provided\, as well as safety glasses\, hi-vis vests and gloves\, should you require them.  Volunteers should be prepared for sloping and uneven ground and appropriate footwear should be worn. \nA safety orientation will be held at the dog park entrance at 8:30am prior to the clean-up event getting underway.  We hope to see you there for a fun morning of FireSmart! \nThe PRCS FireSmart Coordinator will be on hand to answer questions and will be providing a Hot Dog and Hamburger BBQ starting at 12:30 pm for all our hungry volunteers. \nEVENT DETAILS  \nDATE:  Sunday\, October 26\, 2025 \nTIME:   8:30am – 1:00pm \nLOCATION:  Meet at the entrance to the Dog Park on Diamond Way \n*** IMPORTANT: ADVANCED SIGN UP IS REQUIRED! ***  \nPlease sign up by clicking this link \nIf you have any questions\, please contact us or download the event details. \nThank you in advance for donating your time and helping to make our community a better and safer place to live. \nSincerely\, \nYour Predator Ridge Community Safety (PRCS) Committee – FireSmart Team.
URL:https://prcemc.ca/event/firesmart-community-cleanup-event/
LOCATION:Diamond Way by the Dog Park Entry
CATEGORIES:Education,Events,FireSmart
ATTACH;FMTTYPE=image/jpeg:https://prcemc.ca/wp-content/uploads/2025/09/Proposed-Cleanup-Area-Map-scaled.jpg
ORGANIZER;CN="PRCS":MAILTO:info@prcemc.ca
END:VEVENT
BEGIN:VEVENT
DTSTART;TZID=America/Vancouver:20250626T160000
DTEND;TZID=America/Vancouver:20250626T180000
DTSTAMP:20260423T155527
CREATED:20250621T144103Z
LAST-MODIFIED:20250621T144103Z
UID:10000110-1750953600-1750960800@prcemc.ca
SUMMARY:Community Safety Meeting
DESCRIPTION:Dear Neighbours\,\n\n\nThere’s still time to join the Predator Ridge Community Safety Committee for an important and engaging conversation at their upcoming community safety meeting\, next Thursday afternoon.\n\n\n\nEVENT INFORMATION\n• Date: Thursday\, June 26\, 2025\n• Time: 4:00pm – 6:00pm\n• Location: Commonage Ballroom (lower level of the Clubhouse)\n\n\nWe ask that you please register using the link provided below. Registration closes on Monday\, June 23.\n\nWe look forward to seeing you there.\n\nSincerely\,\n\nPRCS Committee\nGord Wilson\nJane Toppozini\nGord Ball\nRobert Scott\n\nCLICK HERE TO REGISTER
URL:https://prcemc.ca/event/community-safety-meeting/
LOCATION:Predator Ridge Clubhouse – Lower Level Ballroom\, 301 Village Centre Place\, Vernon\, British Columbia\, V1H1T2\, Canada
CATEGORIES:Education,Events
ATTACH;FMTTYPE=image/jpeg:https://prcemc.ca/wp-content/uploads/2025/06/PR-SafetyCommittee-Header.jpg
ORGANIZER;CN="PRCS":MAILTO:info@prcemc.ca
END:VEVENT
BEGIN:VEVENT
DTSTART;TZID=America/Vancouver:20250219T100000
DTEND;TZID=America/Vancouver:20250219T110000
DTSTAMP:20260423T155527
CREATED:20230301T153658Z
LAST-MODIFIED:20230301T155318Z
UID:10000041-1739959200-1739962800@prcemc.ca
SUMMARY:VEPS Monthly Meeting
DESCRIPTION:Monthly ZOOM meeting of the Vernon Emergency Planning Subcommittee
URL:https://prcemc.ca/event/veps-monthly-meeting-2/2025-02-19/
LOCATION:Virtual ZOOM Meeting\, Canada
CATEGORIES:Education,Planning
ATTACH;FMTTYPE=image/png:https://prcemc.ca/wp-content/uploads/2023/03/PRCEMC-part-300-x-222.png
END:VEVENT
BEGIN:VEVENT
DTSTART;TZID=America/Vancouver:20250115T100000
DTEND;TZID=America/Vancouver:20250115T110000
DTSTAMP:20260423T155527
CREATED:20230301T153658Z
LAST-MODIFIED:20230301T155318Z
UID:10000040-1736935200-1736938800@prcemc.ca
SUMMARY:VEPS Monthly Meeting
DESCRIPTION:Monthly ZOOM meeting of the Vernon Emergency Planning Subcommittee
URL:https://prcemc.ca/event/veps-monthly-meeting-2/2025-01-15/
LOCATION:Virtual ZOOM Meeting\, Canada
CATEGORIES:Education,Planning
ATTACH;FMTTYPE=image/png:https://prcemc.ca/wp-content/uploads/2023/03/PRCEMC-part-300-x-222.png
END:VEVENT
BEGIN:VEVENT
DTSTART;TZID=America/Vancouver:20241218T100000
DTEND;TZID=America/Vancouver:20241218T110000
DTSTAMP:20260423T155527
CREATED:20230301T153658Z
LAST-MODIFIED:20230301T155318Z
UID:10000039-1734516000-1734519600@prcemc.ca
SUMMARY:VEPS Monthly Meeting
DESCRIPTION:Monthly ZOOM meeting of the Vernon Emergency Planning Subcommittee
URL:https://prcemc.ca/event/veps-monthly-meeting-2/2024-12-18/
LOCATION:Virtual ZOOM Meeting\, Canada
CATEGORIES:Education,Planning
ATTACH;FMTTYPE=image/png:https://prcemc.ca/wp-content/uploads/2023/03/PRCEMC-part-300-x-222.png
END:VEVENT
BEGIN:VEVENT
DTSTART;TZID=America/Vancouver:20241120T100000
DTEND;TZID=America/Vancouver:20241120T110000
DTSTAMP:20260423T155527
CREATED:20230301T153658Z
LAST-MODIFIED:20230301T155318Z
UID:10000038-1732096800-1732100400@prcemc.ca
SUMMARY:VEPS Monthly Meeting
DESCRIPTION:Monthly ZOOM meeting of the Vernon Emergency Planning Subcommittee
URL:https://prcemc.ca/event/veps-monthly-meeting-2/2024-11-20/
LOCATION:Virtual ZOOM Meeting\, Canada
CATEGORIES:Education,Planning
ATTACH;FMTTYPE=image/png:https://prcemc.ca/wp-content/uploads/2023/03/PRCEMC-part-300-x-222.png
END:VEVENT
BEGIN:VEVENT
DTSTART;TZID=America/Vancouver:20241016T100000
DTEND;TZID=America/Vancouver:20241016T110000
DTSTAMP:20260423T155527
CREATED:20230301T153658Z
LAST-MODIFIED:20230301T155318Z
UID:10000037-1729072800-1729076400@prcemc.ca
SUMMARY:VEPS Monthly Meeting
DESCRIPTION:Monthly ZOOM meeting of the Vernon Emergency Planning Subcommittee
URL:https://prcemc.ca/event/veps-monthly-meeting-2/2024-10-16/
LOCATION:Virtual ZOOM Meeting\, Canada
CATEGORIES:Education,Planning
ATTACH;FMTTYPE=image/png:https://prcemc.ca/wp-content/uploads/2023/03/PRCEMC-part-300-x-222.png
END:VEVENT
BEGIN:VEVENT
DTSTART;TZID=America/Vancouver:20240918T100000
DTEND;TZID=America/Vancouver:20240918T110000
DTSTAMP:20260423T155527
CREATED:20230301T153658Z
LAST-MODIFIED:20230301T155318Z
UID:10000036-1726653600-1726657200@prcemc.ca
SUMMARY:VEPS Monthly Meeting
DESCRIPTION:Monthly ZOOM meeting of the Vernon Emergency Planning Subcommittee
URL:https://prcemc.ca/event/veps-monthly-meeting-2/2024-09-18/
LOCATION:Virtual ZOOM Meeting\, Canada
CATEGORIES:Education,Planning
ATTACH;FMTTYPE=image/png:https://prcemc.ca/wp-content/uploads/2023/03/PRCEMC-part-300-x-222.png
END:VEVENT
BEGIN:VEVENT
DTSTART;TZID=America/Vancouver:20240717T100000
DTEND;TZID=America/Vancouver:20240717T110000
DTSTAMP:20260423T155527
CREATED:20230301T153658Z
LAST-MODIFIED:20230301T155318Z
UID:10000035-1721210400-1721214000@prcemc.ca
SUMMARY:VEPS Monthly Meeting
DESCRIPTION:Monthly ZOOM meeting of the Vernon Emergency Planning Subcommittee
URL:https://prcemc.ca/event/veps-monthly-meeting-2/2024-07-17/
LOCATION:Virtual ZOOM Meeting\, Canada
CATEGORIES:Education,Planning
ATTACH;FMTTYPE=image/png:https://prcemc.ca/wp-content/uploads/2023/03/PRCEMC-part-300-x-222.png
END:VEVENT
BEGIN:VEVENT
DTSTART;TZID=America/Vancouver:20240619T100000
DTEND;TZID=America/Vancouver:20240619T110000
DTSTAMP:20260423T155527
CREATED:20230301T153658Z
LAST-MODIFIED:20230301T155318Z
UID:10000034-1718791200-1718794800@prcemc.ca
SUMMARY:VEPS Monthly Meeting
DESCRIPTION:Monthly ZOOM meeting of the Vernon Emergency Planning Subcommittee
URL:https://prcemc.ca/event/veps-monthly-meeting-2/2024-06-19/
LOCATION:Virtual ZOOM Meeting\, Canada
CATEGORIES:Education,Planning
ATTACH;FMTTYPE=image/png:https://prcemc.ca/wp-content/uploads/2023/03/PRCEMC-part-300-x-222.png
END:VEVENT
BEGIN:VEVENT
DTSTART;TZID=America/Vancouver:20240515T100000
DTEND;TZID=America/Vancouver:20240515T110000
DTSTAMP:20260423T155527
CREATED:20230301T153658Z
LAST-MODIFIED:20230301T155318Z
UID:10000033-1715767200-1715770800@prcemc.ca
SUMMARY:VEPS Monthly Meeting
DESCRIPTION:Monthly ZOOM meeting of the Vernon Emergency Planning Subcommittee
URL:https://prcemc.ca/event/veps-monthly-meeting-2/2024-05-15/
LOCATION:Virtual ZOOM Meeting\, Canada
CATEGORIES:Education,Planning
ATTACH;FMTTYPE=image/png:https://prcemc.ca/wp-content/uploads/2023/03/PRCEMC-part-300-x-222.png
END:VEVENT
BEGIN:VEVENT
DTSTART;TZID=America/Vancouver:20240417T100000
DTEND;TZID=America/Vancouver:20240417T110000
DTSTAMP:20260423T155527
CREATED:20230301T153658Z
LAST-MODIFIED:20230301T155318Z
UID:10000032-1713348000-1713351600@prcemc.ca
SUMMARY:VEPS Monthly Meeting
DESCRIPTION:Monthly ZOOM meeting of the Vernon Emergency Planning Subcommittee
URL:https://prcemc.ca/event/veps-monthly-meeting-2/2024-04-17/
LOCATION:Virtual ZOOM Meeting\, Canada
CATEGORIES:Education,Planning
ATTACH;FMTTYPE=image/png:https://prcemc.ca/wp-content/uploads/2023/03/PRCEMC-part-300-x-222.png
END:VEVENT
BEGIN:VEVENT
DTSTART;TZID=America/Vancouver:20240320T100000
DTEND;TZID=America/Vancouver:20240320T110000
DTSTAMP:20260423T155527
CREATED:20230301T153658Z
LAST-MODIFIED:20230301T155318Z
UID:10000031-1710928800-1710932400@prcemc.ca
SUMMARY:VEPS Monthly Meeting
DESCRIPTION:Monthly ZOOM meeting of the Vernon Emergency Planning Subcommittee
URL:https://prcemc.ca/event/veps-monthly-meeting-2/2024-03-20/
LOCATION:Virtual ZOOM Meeting\, Canada
CATEGORIES:Education,Planning
ATTACH;FMTTYPE=image/png:https://prcemc.ca/wp-content/uploads/2023/03/PRCEMC-part-300-x-222.png
END:VEVENT
BEGIN:VEVENT
DTSTART;TZID=America/Vancouver:20240221T100000
DTEND;TZID=America/Vancouver:20240221T110000
DTSTAMP:20260423T155527
CREATED:20230301T153658Z
LAST-MODIFIED:20230301T155318Z
UID:10000030-1708509600-1708513200@prcemc.ca
SUMMARY:VEPS Monthly Meeting
DESCRIPTION:Monthly ZOOM meeting of the Vernon Emergency Planning Subcommittee
URL:https://prcemc.ca/event/veps-monthly-meeting-2/2024-02-21/
LOCATION:Virtual ZOOM Meeting\, Canada
CATEGORIES:Education,Planning
ATTACH;FMTTYPE=image/png:https://prcemc.ca/wp-content/uploads/2023/03/PRCEMC-part-300-x-222.png
END:VEVENT
BEGIN:VEVENT
DTSTART;TZID=America/Vancouver:20240117T100000
DTEND;TZID=America/Vancouver:20240117T110000
DTSTAMP:20260423T155527
CREATED:20230301T153658Z
LAST-MODIFIED:20230301T155318Z
UID:10000029-1705485600-1705489200@prcemc.ca
SUMMARY:VEPS Monthly Meeting
DESCRIPTION:Monthly ZOOM meeting of the Vernon Emergency Planning Subcommittee
URL:https://prcemc.ca/event/veps-monthly-meeting-2/2024-01-17/
LOCATION:Virtual ZOOM Meeting\, Canada
CATEGORIES:Education,Planning
ATTACH;FMTTYPE=image/png:https://prcemc.ca/wp-content/uploads/2023/03/PRCEMC-part-300-x-222.png
END:VEVENT
BEGIN:VEVENT
DTSTART;TZID=America/Vancouver:20231220T100000
DTEND;TZID=America/Vancouver:20231220T110000
DTSTAMP:20260423T155527
CREATED:20230301T153658Z
LAST-MODIFIED:20230301T155318Z
UID:10000028-1703066400-1703070000@prcemc.ca
SUMMARY:VEPS Monthly Meeting
DESCRIPTION:Monthly ZOOM meeting of the Vernon Emergency Planning Subcommittee
URL:https://prcemc.ca/event/veps-monthly-meeting-2/2023-12-20/
LOCATION:Virtual ZOOM Meeting\, Canada
CATEGORIES:Education,Planning
ATTACH;FMTTYPE=image/png:https://prcemc.ca/wp-content/uploads/2023/03/PRCEMC-part-300-x-222.png
END:VEVENT
BEGIN:VEVENT
DTSTART;TZID=America/Vancouver:20231115T100000
DTEND;TZID=America/Vancouver:20231115T110000
DTSTAMP:20260423T155527
CREATED:20230301T153658Z
LAST-MODIFIED:20230301T155318Z
UID:10000027-1700042400-1700046000@prcemc.ca
SUMMARY:VEPS Monthly Meeting
DESCRIPTION:Monthly ZOOM meeting of the Vernon Emergency Planning Subcommittee
URL:https://prcemc.ca/event/veps-monthly-meeting-2/2023-11-15/
LOCATION:Virtual ZOOM Meeting\, Canada
CATEGORIES:Education,Planning
ATTACH;FMTTYPE=image/png:https://prcemc.ca/wp-content/uploads/2023/03/PRCEMC-part-300-x-222.png
END:VEVENT
BEGIN:VEVENT
DTSTART;TZID=America/Vancouver:20231018T100000
DTEND;TZID=America/Vancouver:20231018T110000
DTSTAMP:20260423T155527
CREATED:20230301T153658Z
LAST-MODIFIED:20230301T155318Z
UID:10000026-1697623200-1697626800@prcemc.ca
SUMMARY:VEPS Monthly Meeting
DESCRIPTION:Monthly ZOOM meeting of the Vernon Emergency Planning Subcommittee
URL:https://prcemc.ca/event/veps-monthly-meeting-2/2023-10-18/
LOCATION:Virtual ZOOM Meeting\, Canada
CATEGORIES:Education,Planning
ATTACH;FMTTYPE=image/png:https://prcemc.ca/wp-content/uploads/2023/03/PRCEMC-part-300-x-222.png
END:VEVENT
BEGIN:VEVENT
DTSTART;TZID=America/Vancouver:20230719T100000
DTEND;TZID=America/Vancouver:20230719T110000
DTSTAMP:20260423T155527
CREATED:20230301T153658Z
LAST-MODIFIED:20230301T155318Z
UID:10000025-1689760800-1689764400@prcemc.ca
SUMMARY:VEPS Monthly Meeting
DESCRIPTION:Monthly ZOOM meeting of the Vernon Emergency Planning Subcommittee
URL:https://prcemc.ca/event/veps-monthly-meeting-2/2023-07-19/
LOCATION:Virtual ZOOM Meeting\, Canada
CATEGORIES:Education,Planning
ATTACH;FMTTYPE=image/png:https://prcemc.ca/wp-content/uploads/2023/03/PRCEMC-part-300-x-222.png
END:VEVENT
BEGIN:VEVENT
DTSTART;TZID=America/Vancouver:20230621T100000
DTEND;TZID=America/Vancouver:20230621T110000
DTSTAMP:20260423T155527
CREATED:20230301T153658Z
LAST-MODIFIED:20230301T155318Z
UID:10000024-1687341600-1687345200@prcemc.ca
SUMMARY:VEPS Monthly Meeting
DESCRIPTION:Monthly ZOOM meeting of the Vernon Emergency Planning Subcommittee
URL:https://prcemc.ca/event/veps-monthly-meeting-2/2023-06-21/
LOCATION:Virtual ZOOM Meeting\, Canada
CATEGORIES:Education,Planning
ATTACH;FMTTYPE=image/png:https://prcemc.ca/wp-content/uploads/2023/03/PRCEMC-part-300-x-222.png
END:VEVENT
BEGIN:VEVENT
DTSTART;TZID=America/Vancouver:20230517T100000
DTEND;TZID=America/Vancouver:20230517T110000
DTSTAMP:20260423T155527
CREATED:20230301T153658Z
LAST-MODIFIED:20230301T155318Z
UID:10000023-1684317600-1684321200@prcemc.ca
SUMMARY:VEPS Monthly Meeting
DESCRIPTION:Monthly ZOOM meeting of the Vernon Emergency Planning Subcommittee
URL:https://prcemc.ca/event/veps-monthly-meeting-2/2023-05-17/
LOCATION:Virtual ZOOM Meeting\, Canada
CATEGORIES:Education,Planning
ATTACH;FMTTYPE=image/png:https://prcemc.ca/wp-content/uploads/2023/03/PRCEMC-part-300-x-222.png
END:VEVENT
BEGIN:VEVENT
DTSTART;TZID=America/Vancouver:20230419T100000
DTEND;TZID=America/Vancouver:20230419T110000
DTSTAMP:20260423T155527
CREATED:20230301T153658Z
LAST-MODIFIED:20230301T155318Z
UID:10000022-1681898400-1681902000@prcemc.ca
SUMMARY:VEPS Monthly Meeting
DESCRIPTION:Monthly ZOOM meeting of the Vernon Emergency Planning Subcommittee
URL:https://prcemc.ca/event/veps-monthly-meeting-2/2023-04-19/
LOCATION:Virtual ZOOM Meeting\, Canada
CATEGORIES:Education,Planning
ATTACH;FMTTYPE=image/png:https://prcemc.ca/wp-content/uploads/2023/03/PRCEMC-part-300-x-222.png
END:VEVENT
BEGIN:VEVENT
DTSTART;TZID=America/Vancouver:20230329T150000
DTEND;TZID=America/Vancouver:20230329T163000
DTSTAMP:20260423T155527
CREATED:20230301T154629Z
LAST-MODIFIED:20230305T191340Z
UID:10000042-1680102000-1680107400@prcemc.ca
SUMMARY:Evacuation Siren Information Drop-In
DESCRIPTION:Drop In anytime between 2:30 pm and 4:00 pm to learn \,ore or have your questions answered about the Emergency Evacuation Siren.
URL:https://prcemc.ca/event/evacuation-siren-information-drop-in/
LOCATION:Predator Ridge Clubhouse – Lower Level Ballroom\, 301 Village Centre Place\, Vernon\, British Columbia\, V1H1T2\, Canada
CATEGORIES:Education,Evacuation Siren,Events
ATTACH;FMTTYPE=image/png:https://prcemc.ca/wp-content/uploads/2023/02/T-128-Photo-250x250-1.png
ORGANIZER;CN="PRCEMC":MAILTO:jtoppozini@prcemc.ca
END:VEVENT
BEGIN:VEVENT
DTSTART;TZID=America/Vancouver:20230315T100000
DTEND;TZID=America/Vancouver:20230315T110000
DTSTAMP:20260423T155527
CREATED:20230301T153658Z
LAST-MODIFIED:20230301T155318Z
UID:10000021-1678874400-1678878000@prcemc.ca
SUMMARY:VEPS Monthly Meeting
DESCRIPTION:Monthly ZOOM meeting of the Vernon Emergency Planning Subcommittee
URL:https://prcemc.ca/event/veps-monthly-meeting-2/2023-03-15/
LOCATION:Virtual ZOOM Meeting\, Canada
CATEGORIES:Education,Planning
ATTACH;FMTTYPE=image/png:https://prcemc.ca/wp-content/uploads/2023/03/PRCEMC-part-300-x-222.png
END:VEVENT
BEGIN:VEVENT
DTSTART;TZID=America/Vancouver:20230215T100000
DTEND;TZID=America/Vancouver:20230215T110000
DTSTAMP:20260423T155527
CREATED:20230301T153658Z
LAST-MODIFIED:20230301T155318Z
UID:10000008-1676455200-1676458800@prcemc.ca
SUMMARY:VEPS Monthly Meeting
DESCRIPTION:Monthly ZOOM meeting of the Vernon Emergency Planning Subcommittee
URL:https://prcemc.ca/event/veps-monthly-meeting-2/2023-02-15/
LOCATION:Virtual ZOOM Meeting\, Canada
CATEGORIES:Education,Planning
ATTACH;FMTTYPE=image/png:https://prcemc.ca/wp-content/uploads/2023/03/PRCEMC-part-300-x-222.png
END:VEVENT
BEGIN:VEVENT
DTSTART;TZID=America/Vancouver:20221116T100000
DTEND;TZID=America/Vancouver:20221116T110000
DTSTAMP:20260423T155527
CREATED:20220603T123410Z
LAST-MODIFIED:20220603T125358Z
UID:10000007-1668592800-1668596400@prcemc.ca
SUMMARY:VEPS Monthly Meeting
DESCRIPTION:Monthly ZOOM meeting of the Vernon Emergency Planning Subcommittee
URL:https://prcemc.ca/event/veps-monthly-meeting/2022-11-16/
LOCATION:Virtual ZOOM Meeting\, Canada
CATEGORIES:Education,Planning
ATTACH;FMTTYPE=image/png:https://prcemc.ca/wp-content/uploads/2019/05/PRCEMC-part-150-x-110-1.png
END:VEVENT
BEGIN:VEVENT
DTSTART;TZID=America/Vancouver:20221019T100000
DTEND;TZID=America/Vancouver:20221019T110000
DTSTAMP:20260423T155527
CREATED:20220603T123410Z
LAST-MODIFIED:20220603T125358Z
UID:10000006-1666173600-1666177200@prcemc.ca
SUMMARY:VEPS Monthly Meeting
DESCRIPTION:Monthly ZOOM meeting of the Vernon Emergency Planning Subcommittee
URL:https://prcemc.ca/event/veps-monthly-meeting/2022-10-19/
LOCATION:Virtual ZOOM Meeting\, Canada
CATEGORIES:Education,Planning
ATTACH;FMTTYPE=image/png:https://prcemc.ca/wp-content/uploads/2019/05/PRCEMC-part-150-x-110-1.png
END:VEVENT
BEGIN:VEVENT
DTSTART;TZID=America/Vancouver:20220720T100000
DTEND;TZID=America/Vancouver:20220720T110000
DTSTAMP:20260423T155527
CREATED:20220603T123410Z
LAST-MODIFIED:20220603T125358Z
UID:10000005-1658311200-1658314800@prcemc.ca
SUMMARY:VEPS Monthly Meeting
DESCRIPTION:Monthly ZOOM meeting of the Vernon Emergency Planning Subcommittee
URL:https://prcemc.ca/event/veps-monthly-meeting/2022-07-20/
LOCATION:Virtual ZOOM Meeting\, Canada
CATEGORIES:Education,Planning
ATTACH;FMTTYPE=image/png:https://prcemc.ca/wp-content/uploads/2019/05/PRCEMC-part-150-x-110-1.png
END:VEVENT
BEGIN:VEVENT
DTSTART;TZID=America/Vancouver:20220616T100000
DTEND;TZID=America/Vancouver:20220616T110000
DTSTAMP:20260423T155527
CREATED:20220603T123410Z
LAST-MODIFIED:20220603T125358Z
UID:10000004-1655373600-1655377200@prcemc.ca
SUMMARY:VEPS Monthly Meeting
DESCRIPTION:Monthly ZOOM meeting of the Vernon Emergency Planning Subcommittee
URL:https://prcemc.ca/event/veps-monthly-meeting/2022-06-16/
LOCATION:Virtual ZOOM Meeting\, Canada
CATEGORIES:Education,Planning
ATTACH;FMTTYPE=image/png:https://prcemc.ca/wp-content/uploads/2019/05/PRCEMC-part-150-x-110-1.png
END:VEVENT
BEGIN:VEVENT
DTSTART;TZID=America/Vancouver:20190714T090000
DTEND;TZID=America/Vancouver:20190714T120000
DTSTAMP:20260423T155527
CREATED:20190708T135309Z
LAST-MODIFIED:20190708T135352Z
UID:10000015-1563094800-1563105600@prcemc.ca
SUMMARY:FireSmart Clean-Up Event
DESCRIPTION:The FireSmart Committee is holding a clean-up event on Sunday\, July 14th at 9:00 am to assist the Falcon Point Residents complete a FireSmart clean-up of the Chicopee/Falcon Point common property in areas 1\, 2 & 3. See the colour coded map below: \n\n\n\n\n\n\n\nThe FireSmart committee will be on hand at the Hockey Canada Cabin on Sunday\, July 14th beginning at 9:00 am with all kinds of great information on FireSmart. This is a great opportunity to learn more about FireSmart and how you can help protect your property from wildfire. FireSmart manuals will be available as well as other educational materials. This is a good opportunity for Predator Ridge residents to come out and see first hand what FireSmart is all about and what can be done around their own homes with laddering trees\, cleaning up pine cones\, etc. \n\n\n\nFor those folks that would like to participate in the clean-up\, gloves\, vests\, safety glasses and electric saws will be provided. We anticipate the FireSmart Clean-up will take 3 hours to complete and we will get underway at 9:00 am. Meet at the Hockey Canada Cabin.
URL:https://prcemc.ca/event/firesmart-clean-up-event/
CATEGORIES:Education,Events
ORGANIZER;CN="Gerry Fester":MAILTO:festerg1@telus.net
END:VEVENT
END:VCALENDAR