BEGIN:VCALENDAR
VERSION:2.0
PRODID:-//Predator Ridge Community Safety - ECPv6.15.20//NONSGML v1.0//EN
CALSCALE:GREGORIAN
METHOD:PUBLISH
X-ORIGINAL-URL:https://prcemc.ca
X-WR-CALDESC:Events for Predator Ridge Community Safety
REFRESH-INTERVAL;VALUE=DURATION:PT1H
X-Robots-Tag:noindex
X-PUBLISHED-TTL:PT1H
BEGIN:VTIMEZONE
TZID:America/Vancouver
BEGIN:DAYLIGHT
TZOFFSETFROM:-0800
TZOFFSETTO:-0700
TZNAME:PDT
DTSTART:20240310T100000
END:DAYLIGHT
BEGIN:STANDARD
TZOFFSETFROM:-0700
TZOFFSETTO:-0800
TZNAME:PST
DTSTART:20241103T090000
END:STANDARD
BEGIN:DAYLIGHT
TZOFFSETFROM:-0800
TZOFFSETTO:-0700
TZNAME:PDT
DTSTART:20250309T100000
END:DAYLIGHT
BEGIN:STANDARD
TZOFFSETFROM:-0700
TZOFFSETTO:-0800
TZNAME:PST
DTSTART:20251102T090000
END:STANDARD
BEGIN:DAYLIGHT
TZOFFSETFROM:-0800
TZOFFSETTO:-0700
TZNAME:PDT
DTSTART:20260308T100000
END:DAYLIGHT
BEGIN:STANDARD
TZOFFSETFROM:-0700
TZOFFSETTO:-0800
TZNAME:PST
DTSTART:20261101T090000
END:STANDARD
END:VTIMEZONE
BEGIN:VEVENT
DTSTART;TZID=America/Vancouver:20251119T135500
DTEND;TZID=America/Vancouver:20251119T135800
DTSTAMP:20260424T070714
CREATED:20251031T185650Z
LAST-MODIFIED:20251031T185650Z
UID:10000113-1763560500-1763560680@prcemc.ca
SUMMARY:National Alert Ready System and Wildfire Evacuation Siren Test
DESCRIPTION:IMPORTANT NOTICE: \n National Alert Ready System and Predator Ridge Wildfire Evacuation Full Siren Test on Wednesday\,  November 19\,  2025 at 1:55 PM\n\n\n\n \n\nDear Neighbours\,  Please be advised that a National Alert Ready Test is scheduled for Wednesday November 19\, 2025 at 1:55 pm. The Alert Ready system is tested twice a year\, once in May and again in November.  In addition to television and radio\, Alert Ready sends emergency alerts to cell phones and wireless devices that are compatible with Wireless Public Alerting (WPA). To coincide with the Alert Ready test\, the City of Vernon Fire Department will be testing the Predator Ridge Wildfire Evacuation Siren.\n\n \n\nThis Wildfire Evacuation Siren test will be a full-volume audible test of the siren for a total of 3 minutes. The siren will cycle through high and low pitches repetitively for 8 cycles; a total duration of 3 minutes. During the testing\, our high power\, rotating\, unidirectional warning siren sound will fade in out of neighbourhoods as it makes rotations. Please keep in mind that this siren test is only 3 minutes in length. In the event the siren is activated during a wildfire emergency\, the siren will sound in continuous 15 minute intervals until it is paused or stopped by authorities.\n\n \n\nThis is only a test of the siren and Alert Ready\, no action is required on your part.  For more information on Alert Ready\, click here\, or visit the Government of BC’s website here.  Thank you for supporting your Predator Ridge Community Safety program.\n\n \n\nSincerely\, Predator Ridge Community Safety (PRCS)\nGord Wilson\nJane Toppozini\nGord Ball\nRobert Scott\nEamonn Deegan
URL:https://prcemc.ca/event/national-alert-ready-system-and-wildfire-evacuation-siren-test/
CATEGORIES:Events,Full 3-min Siren Test
END:VEVENT
END:VCALENDAR