BEGIN:VCALENDAR
VERSION:2.0
PRODID:-//Predator Ridge Community Safety - ECPv6.15.20//NONSGML v1.0//EN
CALSCALE:GREGORIAN
METHOD:PUBLISH
X-WR-CALNAME:Predator Ridge Community Safety
X-ORIGINAL-URL:https://prcemc.ca
X-WR-CALDESC:Events for Predator Ridge Community Safety
REFRESH-INTERVAL;VALUE=DURATION:PT1H
X-Robots-Tag:noindex
X-PUBLISHED-TTL:PT1H
BEGIN:VTIMEZONE
TZID:America/Vancouver
BEGIN:DAYLIGHT
TZOFFSETFROM:-0800
TZOFFSETTO:-0700
TZNAME:PDT
DTSTART:20240310T100000
END:DAYLIGHT
BEGIN:STANDARD
TZOFFSETFROM:-0700
TZOFFSETTO:-0800
TZNAME:PST
DTSTART:20241103T090000
END:STANDARD
BEGIN:DAYLIGHT
TZOFFSETFROM:-0800
TZOFFSETTO:-0700
TZNAME:PDT
DTSTART:20250309T100000
END:DAYLIGHT
BEGIN:STANDARD
TZOFFSETFROM:-0700
TZOFFSETTO:-0800
TZNAME:PST
DTSTART:20251102T090000
END:STANDARD
BEGIN:DAYLIGHT
TZOFFSETFROM:-0800
TZOFFSETTO:-0700
TZNAME:PDT
DTSTART:20260308T100000
END:DAYLIGHT
BEGIN:STANDARD
TZOFFSETFROM:-0700
TZOFFSETTO:-0800
TZNAME:PST
DTSTART:20261101T090000
END:STANDARD
END:VTIMEZONE
BEGIN:VEVENT
DTSTART;TZID=America/Vancouver:20250624T163000
DTEND;TZID=America/Vancouver:20250624T173000
DTSTAMP:20260424T095206
CREATED:20250621T164635Z
LAST-MODIFIED:20250621T164635Z
UID:10000111-1750782600-1750786200@prcemc.ca
SUMMARY:PRCS Committee Meeting
DESCRIPTION:Meeting of PRCS committee members.
URL:https://prcemc.ca/event/prcs-committee-meeting-2/
LOCATION:Pallino’s Italian Bistro\, 301 Village Centre Pl\, Vernon\, BC\, Canada
CATEGORIES:Planning
ATTACH;FMTTYPE=image/png:https://prcemc.ca/wp-content/uploads/2023/11/PRCEMC-Logo-V3_graphic-only-150x150-1.png
END:VEVENT
END:VCALENDAR