BEGIN:VCALENDAR
VERSION:2.0
PRODID:-//Predator Ridge Community Safety - ECPv6.15.20//NONSGML v1.0//EN
CALSCALE:GREGORIAN
METHOD:PUBLISH
X-WR-CALNAME:Predator Ridge Community Safety
X-ORIGINAL-URL:https://prcemc.ca
X-WR-CALDESC:Events for Predator Ridge Community Safety
REFRESH-INTERVAL;VALUE=DURATION:PT1H
X-Robots-Tag:noindex
X-PUBLISHED-TTL:PT1H
BEGIN:VTIMEZONE
TZID:America/Vancouver
BEGIN:DAYLIGHT
TZOFFSETFROM:-0800
TZOFFSETTO:-0700
TZNAME:PDT
DTSTART:20220313T100000
END:DAYLIGHT
BEGIN:STANDARD
TZOFFSETFROM:-0700
TZOFFSETTO:-0800
TZNAME:PST
DTSTART:20221106T090000
END:STANDARD
BEGIN:DAYLIGHT
TZOFFSETFROM:-0800
TZOFFSETTO:-0700
TZNAME:PDT
DTSTART:20230312T100000
END:DAYLIGHT
BEGIN:STANDARD
TZOFFSETFROM:-0700
TZOFFSETTO:-0800
TZNAME:PST
DTSTART:20231105T090000
END:STANDARD
BEGIN:DAYLIGHT
TZOFFSETFROM:-0800
TZOFFSETTO:-0700
TZNAME:PDT
DTSTART:20240310T100000
END:DAYLIGHT
BEGIN:STANDARD
TZOFFSETFROM:-0700
TZOFFSETTO:-0800
TZNAME:PST
DTSTART:20241103T090000
END:STANDARD
BEGIN:DAYLIGHT
TZOFFSETFROM:-0800
TZOFFSETTO:-0700
TZNAME:PDT
DTSTART:20250309T100000
END:DAYLIGHT
BEGIN:STANDARD
TZOFFSETFROM:-0700
TZOFFSETTO:-0800
TZNAME:PST
DTSTART:20251102T090000
END:STANDARD
END:VTIMEZONE
BEGIN:VEVENT
DTSTART;TZID=America/Vancouver:20240918T100000
DTEND;TZID=America/Vancouver:20240918T110000
DTSTAMP:20260424T040239
CREATED:20230301T153658Z
LAST-MODIFIED:20230301T155318Z
UID:10000036-1726653600-1726657200@prcemc.ca
SUMMARY:VEPS Monthly Meeting
DESCRIPTION:Monthly ZOOM meeting of the Vernon Emergency Planning Subcommittee
URL:https://prcemc.ca/event/veps-monthly-meeting-2/2024-09-18/
LOCATION:Virtual ZOOM Meeting\, Canada
CATEGORIES:Education,Planning
ATTACH;FMTTYPE=image/png:https://prcemc.ca/wp-content/uploads/2023/03/PRCEMC-part-300-x-222.png
END:VEVENT
BEGIN:VEVENT
DTSTART;TZID=America/Vancouver:20240904T140000
DTEND;TZID=America/Vancouver:20240904T140100
DTSTAMP:20260424T040239
CREATED:20230518T231420Z
LAST-MODIFIED:20230518T231420Z
UID:10000080-1725458400-1725458460@prcemc.ca
SUMMARY:DC Siren Growl Test
DESCRIPTION:Test of the DC circuits (battery backup) – performs a low volume short siren GROWL
URL:https://prcemc.ca/event/dc-siren-growl-test/2024-09-04/
LOCATION:Fire Station #3 70 Predator Ridge Drive\, Vernon\, BC\, 70 Predator Ridge Drive\, Vernon\, BC\, Canada
CATEGORIES:Siren Growl Test
ATTACH;FMTTYPE=image/png:https://prcemc.ca/wp-content/uploads/2023/02/T-128-Photo-250x250-1.png
ORGANIZER;CN="PRCS":MAILTO:info@prcemc.ca
END:VEVENT
BEGIN:VEVENT
DTSTART;TZID=America/Vancouver:20240807T140000
DTEND;TZID=America/Vancouver:20240807T140100
DTSTAMP:20260424T040239
CREATED:20230518T230659Z
LAST-MODIFIED:20230518T231739Z
UID:10000050-1723039200-1723039260@prcemc.ca
SUMMARY:AC Siren Growl Test
DESCRIPTION:Test of the AC circuits – performs a low volume short siren GROWL
URL:https://prcemc.ca/event/ac-siren-growl-test/2024-08-07/
LOCATION:Fire Station #3 70 Predator Ridge Drive\, Vernon\, BC\, 70 Predator Ridge Drive\, Vernon\, BC\, Canada
CATEGORIES:Siren Growl Test
ATTACH;FMTTYPE=image/png:https://prcemc.ca/wp-content/uploads/2023/02/T-128-Photo-250x250-1.png
ORGANIZER;CN="PRCS":MAILTO:info@prcemc.ca
END:VEVENT
BEGIN:VEVENT
DTSTART;TZID=America/Vancouver:20240717T100000
DTEND;TZID=America/Vancouver:20240717T110000
DTSTAMP:20260424T040239
CREATED:20230301T153658Z
LAST-MODIFIED:20230301T155318Z
UID:10000035-1721210400-1721214000@prcemc.ca
SUMMARY:VEPS Monthly Meeting
DESCRIPTION:Monthly ZOOM meeting of the Vernon Emergency Planning Subcommittee
URL:https://prcemc.ca/event/veps-monthly-meeting-2/2024-07-17/
LOCATION:Virtual ZOOM Meeting\, Canada
CATEGORIES:Education,Planning
ATTACH;FMTTYPE=image/png:https://prcemc.ca/wp-content/uploads/2023/03/PRCEMC-part-300-x-222.png
END:VEVENT
BEGIN:VEVENT
DTSTART;TZID=America/Vancouver:20240703T140000
DTEND;TZID=America/Vancouver:20240703T140100
DTSTAMP:20260424T040239
CREATED:20230518T231420Z
LAST-MODIFIED:20230518T231420Z
UID:10000079-1720015200-1720015260@prcemc.ca
SUMMARY:DC Siren Growl Test
DESCRIPTION:Test of the DC circuits (battery backup) – performs a low volume short siren GROWL
URL:https://prcemc.ca/event/dc-siren-growl-test/2024-07-03/
LOCATION:Fire Station #3 70 Predator Ridge Drive\, Vernon\, BC\, 70 Predator Ridge Drive\, Vernon\, BC\, Canada
CATEGORIES:Siren Growl Test
ATTACH;FMTTYPE=image/png:https://prcemc.ca/wp-content/uploads/2023/02/T-128-Photo-250x250-1.png
ORGANIZER;CN="PRCS":MAILTO:info@prcemc.ca
END:VEVENT
BEGIN:VEVENT
DTSTART;TZID=America/Vancouver:20240619T100000
DTEND;TZID=America/Vancouver:20240619T110000
DTSTAMP:20260424T040239
CREATED:20230301T153658Z
LAST-MODIFIED:20230301T155318Z
UID:10000034-1718791200-1718794800@prcemc.ca
SUMMARY:VEPS Monthly Meeting
DESCRIPTION:Monthly ZOOM meeting of the Vernon Emergency Planning Subcommittee
URL:https://prcemc.ca/event/veps-monthly-meeting-2/2024-06-19/
LOCATION:Virtual ZOOM Meeting\, Canada
CATEGORIES:Education,Planning
ATTACH;FMTTYPE=image/png:https://prcemc.ca/wp-content/uploads/2023/03/PRCEMC-part-300-x-222.png
END:VEVENT
BEGIN:VEVENT
DTSTART;TZID=America/Vancouver:20240605T140000
DTEND;TZID=America/Vancouver:20240605T140100
DTSTAMP:20260424T040239
CREATED:20230518T230659Z
LAST-MODIFIED:20230518T231739Z
UID:10000049-1717596000-1717596060@prcemc.ca
SUMMARY:AC Siren Growl Test
DESCRIPTION:Test of the AC circuits – performs a low volume short siren GROWL
URL:https://prcemc.ca/event/ac-siren-growl-test/2024-06-05/
LOCATION:Fire Station #3 70 Predator Ridge Drive\, Vernon\, BC\, 70 Predator Ridge Drive\, Vernon\, BC\, Canada
CATEGORIES:Siren Growl Test
ATTACH;FMTTYPE=image/png:https://prcemc.ca/wp-content/uploads/2023/02/T-128-Photo-250x250-1.png
ORGANIZER;CN="PRCS":MAILTO:info@prcemc.ca
END:VEVENT
BEGIN:VEVENT
DTSTART;TZID=America/Vancouver:20240518T083000
DTEND;TZID=America/Vancouver:20240518T123000
DTSTAMP:20260424T040239
CREATED:20240514T233527Z
LAST-MODIFIED:20241121T193246Z
UID:10000108-1716021000-1716035400@prcemc.ca
SUMMARY:FireSmart Community Cleanup Event
DESCRIPTION:We understand it’s a long weekend but If you’re not already committed\, we would really use your help. (Every weekend is a long weekend at Predator!!) \nThe more hands we have the faster the clean up…..what ever time you can spare 1 hr or the full morning.  Every little bit helps….. \nIf you can make it\, PLEASE register at the link below \nEVENT DETAILS  \nDATE:  Saturday\, May 18\, 2024 \nTIME:   9:00am – 12:00pm \nLOCATION:  Meet beside the entrance to the District on Diamond Way \nA safety orientation will be held at the dog park entrance at 8:30am prior to the clean-up event getting underway. \n \n For safety reasons and logistics it is imperative that all volunteer register for this FireSmart event . \nYou can sign up by clicking this link. \nWater and snacks will be provided\, as well as safety glasses\, hi-vis vests and gloves\, should you require them.  Volunteers should be prepared for sloping and uneven ground and appropriate footwear should be worn. \nThe PRCS FireSmart Coordinator will be on hand to answer questions and will be providing a Hot Dog BBQ starting at 12:30 pm for all our hungry volunteers. \nIf you have any questions\, please contact us. \nThank you in advance for donating your time and helping to make our community a better and safer place to live. \nSincerely\, \nYour Predator Ridge Community Safety (PRCS) Committee
URL:https://prcemc.ca/event/2885/
LOCATION:BC
CATEGORIES:FireSmart
ORGANIZER;CN="PRCS":MAILTO:info@prcemc.ca
END:VEVENT
BEGIN:VEVENT
DTSTART;TZID=America/Vancouver:20240515T100000
DTEND;TZID=America/Vancouver:20240515T110000
DTSTAMP:20260424T040239
CREATED:20230301T153658Z
LAST-MODIFIED:20230301T155318Z
UID:10000033-1715767200-1715770800@prcemc.ca
SUMMARY:VEPS Monthly Meeting
DESCRIPTION:Monthly ZOOM meeting of the Vernon Emergency Planning Subcommittee
URL:https://prcemc.ca/event/veps-monthly-meeting-2/2024-05-15/
LOCATION:Virtual ZOOM Meeting\, Canada
CATEGORIES:Education,Planning
ATTACH;FMTTYPE=image/png:https://prcemc.ca/wp-content/uploads/2023/03/PRCEMC-part-300-x-222.png
END:VEVENT
BEGIN:VEVENT
DTSTART;TZID=America/Vancouver:20240501T140000
DTEND;TZID=America/Vancouver:20240501T140100
DTSTAMP:20260424T040239
CREATED:20230518T231420Z
LAST-MODIFIED:20230518T231420Z
UID:10000078-1714572000-1714572060@prcemc.ca
SUMMARY:DC Siren Growl Test
DESCRIPTION:Test of the DC circuits (battery backup) – performs a low volume short siren GROWL
URL:https://prcemc.ca/event/dc-siren-growl-test/2024-05-01/
LOCATION:Fire Station #3 70 Predator Ridge Drive\, Vernon\, BC\, 70 Predator Ridge Drive\, Vernon\, BC\, Canada
CATEGORIES:Siren Growl Test
ATTACH;FMTTYPE=image/png:https://prcemc.ca/wp-content/uploads/2023/02/T-128-Photo-250x250-1.png
ORGANIZER;CN="PRCS":MAILTO:info@prcemc.ca
END:VEVENT
BEGIN:VEVENT
DTSTART;TZID=America/Vancouver:20240417T100000
DTEND;TZID=America/Vancouver:20240417T110000
DTSTAMP:20260424T040239
CREATED:20230301T153658Z
LAST-MODIFIED:20230301T155318Z
UID:10000032-1713348000-1713351600@prcemc.ca
SUMMARY:VEPS Monthly Meeting
DESCRIPTION:Monthly ZOOM meeting of the Vernon Emergency Planning Subcommittee
URL:https://prcemc.ca/event/veps-monthly-meeting-2/2024-04-17/
LOCATION:Virtual ZOOM Meeting\, Canada
CATEGORIES:Education,Planning
ATTACH;FMTTYPE=image/png:https://prcemc.ca/wp-content/uploads/2023/03/PRCEMC-part-300-x-222.png
END:VEVENT
BEGIN:VEVENT
DTSTART;TZID=America/Vancouver:20240403T140000
DTEND;TZID=America/Vancouver:20240403T140100
DTSTAMP:20260424T040239
CREATED:20230518T230659Z
LAST-MODIFIED:20230518T231739Z
UID:10000048-1712152800-1712152860@prcemc.ca
SUMMARY:AC Siren Growl Test
DESCRIPTION:Test of the AC circuits – performs a low volume short siren GROWL
URL:https://prcemc.ca/event/ac-siren-growl-test/2024-04-03/
LOCATION:Fire Station #3 70 Predator Ridge Drive\, Vernon\, BC\, 70 Predator Ridge Drive\, Vernon\, BC\, Canada
CATEGORIES:Siren Growl Test
ATTACH;FMTTYPE=image/png:https://prcemc.ca/wp-content/uploads/2023/02/T-128-Photo-250x250-1.png
ORGANIZER;CN="PRCS":MAILTO:info@prcemc.ca
END:VEVENT
BEGIN:VEVENT
DTSTART;TZID=America/Vancouver:20240320T100000
DTEND;TZID=America/Vancouver:20240320T110000
DTSTAMP:20260424T040239
CREATED:20230301T153658Z
LAST-MODIFIED:20230301T155318Z
UID:10000031-1710928800-1710932400@prcemc.ca
SUMMARY:VEPS Monthly Meeting
DESCRIPTION:Monthly ZOOM meeting of the Vernon Emergency Planning Subcommittee
URL:https://prcemc.ca/event/veps-monthly-meeting-2/2024-03-20/
LOCATION:Virtual ZOOM Meeting\, Canada
CATEGORIES:Education,Planning
ATTACH;FMTTYPE=image/png:https://prcemc.ca/wp-content/uploads/2023/03/PRCEMC-part-300-x-222.png
END:VEVENT
BEGIN:VEVENT
DTSTART;TZID=America/Vancouver:20240306T140000
DTEND;TZID=America/Vancouver:20240306T140100
DTSTAMP:20260424T040239
CREATED:20230518T231420Z
LAST-MODIFIED:20230518T231420Z
UID:10000077-1709733600-1709733660@prcemc.ca
SUMMARY:DC Siren Growl Test
DESCRIPTION:Test of the DC circuits (battery backup) – performs a low volume short siren GROWL
URL:https://prcemc.ca/event/dc-siren-growl-test/2024-03-06/
LOCATION:Fire Station #3 70 Predator Ridge Drive\, Vernon\, BC\, 70 Predator Ridge Drive\, Vernon\, BC\, Canada
CATEGORIES:Siren Growl Test
ATTACH;FMTTYPE=image/png:https://prcemc.ca/wp-content/uploads/2023/02/T-128-Photo-250x250-1.png
ORGANIZER;CN="PRCS":MAILTO:info@prcemc.ca
END:VEVENT
BEGIN:VEVENT
DTSTART;TZID=America/Vancouver:20240221T100000
DTEND;TZID=America/Vancouver:20240221T110000
DTSTAMP:20260424T040239
CREATED:20230301T153658Z
LAST-MODIFIED:20230301T155318Z
UID:10000030-1708509600-1708513200@prcemc.ca
SUMMARY:VEPS Monthly Meeting
DESCRIPTION:Monthly ZOOM meeting of the Vernon Emergency Planning Subcommittee
URL:https://prcemc.ca/event/veps-monthly-meeting-2/2024-02-21/
LOCATION:Virtual ZOOM Meeting\, Canada
CATEGORIES:Education,Planning
ATTACH;FMTTYPE=image/png:https://prcemc.ca/wp-content/uploads/2023/03/PRCEMC-part-300-x-222.png
END:VEVENT
BEGIN:VEVENT
DTSTART;TZID=America/Vancouver:20240207T140000
DTEND;TZID=America/Vancouver:20240207T140100
DTSTAMP:20260424T040239
CREATED:20230518T230659Z
LAST-MODIFIED:20230518T231739Z
UID:10000047-1707314400-1707314460@prcemc.ca
SUMMARY:AC Siren Growl Test
DESCRIPTION:Test of the AC circuits – performs a low volume short siren GROWL
URL:https://prcemc.ca/event/ac-siren-growl-test/2024-02-07/
LOCATION:Fire Station #3 70 Predator Ridge Drive\, Vernon\, BC\, 70 Predator Ridge Drive\, Vernon\, BC\, Canada
CATEGORIES:Siren Growl Test
ATTACH;FMTTYPE=image/png:https://prcemc.ca/wp-content/uploads/2023/02/T-128-Photo-250x250-1.png
ORGANIZER;CN="PRCS":MAILTO:info@prcemc.ca
END:VEVENT
BEGIN:VEVENT
DTSTART;TZID=America/Vancouver:20240117T100000
DTEND;TZID=America/Vancouver:20240117T110000
DTSTAMP:20260424T040239
CREATED:20230301T153658Z
LAST-MODIFIED:20230301T155318Z
UID:10000029-1705485600-1705489200@prcemc.ca
SUMMARY:VEPS Monthly Meeting
DESCRIPTION:Monthly ZOOM meeting of the Vernon Emergency Planning Subcommittee
URL:https://prcemc.ca/event/veps-monthly-meeting-2/2024-01-17/
LOCATION:Virtual ZOOM Meeting\, Canada
CATEGORIES:Education,Planning
ATTACH;FMTTYPE=image/png:https://prcemc.ca/wp-content/uploads/2023/03/PRCEMC-part-300-x-222.png
END:VEVENT
BEGIN:VEVENT
DTSTART;TZID=America/Vancouver:20240103T140000
DTEND;TZID=America/Vancouver:20240103T140100
DTSTAMP:20260424T040239
CREATED:20230518T231420Z
LAST-MODIFIED:20230518T231420Z
UID:10000076-1704290400-1704290460@prcemc.ca
SUMMARY:DC Siren Growl Test
DESCRIPTION:Test of the DC circuits (battery backup) – performs a low volume short siren GROWL
URL:https://prcemc.ca/event/dc-siren-growl-test/2024-01-03/
LOCATION:Fire Station #3 70 Predator Ridge Drive\, Vernon\, BC\, 70 Predator Ridge Drive\, Vernon\, BC\, Canada
CATEGORIES:Siren Growl Test
ATTACH;FMTTYPE=image/png:https://prcemc.ca/wp-content/uploads/2023/02/T-128-Photo-250x250-1.png
ORGANIZER;CN="PRCS":MAILTO:info@prcemc.ca
END:VEVENT
BEGIN:VEVENT
DTSTART;TZID=America/Vancouver:20231220T100000
DTEND;TZID=America/Vancouver:20231220T110000
DTSTAMP:20260424T040239
CREATED:20230301T153658Z
LAST-MODIFIED:20230301T155318Z
UID:10000028-1703066400-1703070000@prcemc.ca
SUMMARY:VEPS Monthly Meeting
DESCRIPTION:Monthly ZOOM meeting of the Vernon Emergency Planning Subcommittee
URL:https://prcemc.ca/event/veps-monthly-meeting-2/2023-12-20/
LOCATION:Virtual ZOOM Meeting\, Canada
CATEGORIES:Education,Planning
ATTACH;FMTTYPE=image/png:https://prcemc.ca/wp-content/uploads/2023/03/PRCEMC-part-300-x-222.png
END:VEVENT
BEGIN:VEVENT
DTSTART;TZID=America/Vancouver:20231213T120000
DTEND;TZID=America/Vancouver:20231213T133000
DTSTAMP:20260424T040239
CREATED:20231126T224107Z
LAST-MODIFIED:20231126T224107Z
UID:10000106-1702468800-1702474200@prcemc.ca
SUMMARY:PRCS Committee Meeting
DESCRIPTION:PRCS Committee meeting – 2024 planning \nCommittee members only
URL:https://prcemc.ca/event/prcs-committee-meeting/
LOCATION:Pallino’s Italian Bistro\, 301 Village Centre Pl\, Vernon\, BC\, Canada
END:VEVENT
BEGIN:VEVENT
DTSTART;TZID=America/Vancouver:20231206T140000
DTEND;TZID=America/Vancouver:20231206T140100
DTSTAMP:20260424T040239
CREATED:20230518T230659Z
LAST-MODIFIED:20230518T231739Z
UID:10000046-1701871200-1701871260@prcemc.ca
SUMMARY:AC Siren Growl Test
DESCRIPTION:Test of the AC circuits – performs a low volume short siren GROWL
URL:https://prcemc.ca/event/ac-siren-growl-test/2023-12-06/
LOCATION:Fire Station #3 70 Predator Ridge Drive\, Vernon\, BC\, 70 Predator Ridge Drive\, Vernon\, BC\, Canada
CATEGORIES:Siren Growl Test
ATTACH;FMTTYPE=image/png:https://prcemc.ca/wp-content/uploads/2023/02/T-128-Photo-250x250-1.png
ORGANIZER;CN="PRCS":MAILTO:info@prcemc.ca
END:VEVENT
BEGIN:VEVENT
DTSTART;TZID=America/Vancouver:20231115T135500
DTEND;TZID=America/Vancouver:20231115T135800
DTSTAMP:20260424T040239
CREATED:20230915T231500Z
LAST-MODIFIED:20230915T231500Z
UID:10000104-1700056500-1700056680@prcemc.ca
SUMMARY:Wildfire Siren Test
DESCRIPTION:The Province of British Columbia\, if possible\, conducts a test of the emergency alert system twice a year. The last test of the Alert Ready system occurred on Wednesday\, May 10 2023 at 1:55 pm PDT. The next test will occur on November 15\, 2023 at 1:55 pm PST. \nThe PRCS & City of Vernon will conduct a full 3-minute test of the Wildfire Evacuation Siren at 1:55pm on this date in tandem with the Province of BC’s Alert Ready System.
URL:https://prcemc.ca/event/wildfire-siren-test/
LOCATION:Fire Station #3 70 Predator Ridge Drive\, Vernon\, BC\, 70 Predator Ridge Drive\, Vernon\, BC\, Canada
CATEGORIES:Evacuation Siren,Full 3-min Siren Test
ATTACH;FMTTYPE=image/png:https://prcemc.ca/wp-content/uploads/2023/02/T-128-Photo-250x250-1.png
END:VEVENT
BEGIN:VEVENT
DTSTART;TZID=America/Vancouver:20231115T100000
DTEND;TZID=America/Vancouver:20231115T110000
DTSTAMP:20260424T040239
CREATED:20230301T153658Z
LAST-MODIFIED:20230301T155318Z
UID:10000027-1700042400-1700046000@prcemc.ca
SUMMARY:VEPS Monthly Meeting
DESCRIPTION:Monthly ZOOM meeting of the Vernon Emergency Planning Subcommittee
URL:https://prcemc.ca/event/veps-monthly-meeting-2/2023-11-15/
LOCATION:Virtual ZOOM Meeting\, Canada
CATEGORIES:Education,Planning
ATTACH;FMTTYPE=image/png:https://prcemc.ca/wp-content/uploads/2023/03/PRCEMC-part-300-x-222.png
END:VEVENT
BEGIN:VEVENT
DTSTART;TZID=America/Vancouver:20231101T140000
DTEND;TZID=America/Vancouver:20231101T140100
DTSTAMP:20260424T040239
CREATED:20230518T231420Z
LAST-MODIFIED:20230518T231420Z
UID:10000075-1698847200-1698847260@prcemc.ca
SUMMARY:DC Siren Growl Test
DESCRIPTION:Test of the DC circuits (battery backup) – performs a low volume short siren GROWL
URL:https://prcemc.ca/event/dc-siren-growl-test/2023-11-01/
LOCATION:Fire Station #3 70 Predator Ridge Drive\, Vernon\, BC\, 70 Predator Ridge Drive\, Vernon\, BC\, Canada
CATEGORIES:Siren Growl Test
ATTACH;FMTTYPE=image/png:https://prcemc.ca/wp-content/uploads/2023/02/T-128-Photo-250x250-1.png
ORGANIZER;CN="PRCS":MAILTO:info@prcemc.ca
END:VEVENT
BEGIN:VEVENT
DTSTART;TZID=America/Vancouver:20231021T083000
DTEND;TZID=America/Vancouver:20231021T130000
DTSTAMP:20260424T040239
CREATED:20230916T171854Z
LAST-MODIFIED:20241121T192345Z
UID:10000105-1697877000-1697893200@prcemc.ca
SUMMARY:FireSmart Community Event
DESCRIPTION:Dear Neighbours\, \n\nAre you looking to learn more about FireSmart and what you can do to protect your home and community?  \n \nJoin us at our upcoming clean-up event and learn what you can do to FireSmart your property.  You can also visit the PRCEMC website at: PRCEMC.ca/FireSmart for more information and FireSmart resources.\n\n\nCLEAN-UP EVENT:  Commonage Neighbourhood (Dog Park Area)\nDATE:  SATURDAY\, October 21\, 2023\n\n\nThe FireSmart Committee is excited to announce that the Commonage neighbourhood will be the site of our next FireSmart clean-up event.  The area to be cleaned is the common property and park area that is commonly known as the Dog Park.\n\n\n\nThe committee is currently looking for volunteers to assist with the clean-up and welcome all helping hands. Our collective efforts will help make our community a safer place.\n\nWater and snacks will be provided\, as well as safety glasses\, hi-vis vests and gloves\, should you require them.  Volunteers should be prepared for sloping and uneven ground and appropriate footwear should be worn.\n\nA safety orientation will be held at the dog park entrance at 8:30am prior to the clean-up event getting underway.  We hope to see you there for a fun morning of FireSmart!\n\nThe City of Vernon FireSmart Coordinator will be on hand to answer questions and will be providing a Hot Dog BBQ  at 12:30 pm for all of our hungry volunteers.\n\n\nEVENT DETAILS \nDATE:  Saturday\, October 21\, 2023\nTIME:   9:00am – 1:00pm\nLOCATION:  Meet in front of the Dog Park Entrance on Diamond Way\n\n\n\n***IMPORTANT: ADVANCED SIGN UP REQUIRED!*** \nPlease sign up by clicking this link\n\n\nIf you have any questions please contact us.\n\nThank you in advance for your donating your time and helping to make our community a better and safer place to live.\n\n\nSincerely\, \nYour Predator Ridge Community Safety Committee (PRCS) FireSmart Team.
URL:https://prcemc.ca/event/firesmart-community-event-2-2/
LOCATION:BC
CATEGORIES:Events,FireSmart
ATTACH;FMTTYPE=image/png:https://prcemc.ca/wp-content/uploads/2019/05/Firesmart-logo2.png
ORGANIZER;CN="PRCS":MAILTO:info@prcemc.ca
END:VEVENT
BEGIN:VEVENT
DTSTART;TZID=America/Vancouver:20231021T083000
DTEND;TZID=America/Vancouver:20231021T123000
DTSTAMP:20260424T040239
CREATED:20230916T002205Z
LAST-MODIFIED:20241121T190222Z
UID:10000109-1697877000-1697891400@prcemc.ca
SUMMARY:FireSmart Community Event
DESCRIPTION:Dear Neighbours\, \n\nAre you looking to learn more about FireSmart and what you can do to protect your home and community?  \n \nJoin us at our upcoming clean-up event and learn what you can do to FireSmart your property.  You can also visit the PRCEMC website at: PRCEMC.ca/FireSmart for more information and FireSmart resources.\n\n\nCLEAN-UP EVENT:  Commonage Neighbourhood (Dog Park Area)\nDATE:  SATURDAY\, October 21\, 2023\n\n\nThe FireSmart Committee is excited to announce that the Commonage neighbourhood will be the site of our next FireSmart clean-up event.  The area to be cleaned is the common property and park area that is commonly known as the Dog Park.\n\n\n\nThe committee is currently looking for volunteers to assist with the clean-up and welcome all helping hands. Our collective efforts will help make our community a safer place.\n\nWater and snacks will be provided\, as well as safety glasses\, hi-vis vests and gloves\, should you require them.  Volunteers should be prepared for sloping and uneven ground and appropriate footwear should be worn.\n\nA safety orientation will be held at the dog park entrance at 8:30am prior to the clean-up event getting underway.  We hope to see you there for a fun morning of FireSmart!\n\nThe City of Vernon FireSmart Coordinator will be on hand to answer questions and will be providing a Hot Dog BBQ  at 12:30 pm for all of our hungry volunteers.\n\n\nEVENT DETAILS \nDATE:  Saturday\, October 21\, 2023\nTIME:   8:30am – 12:30pm\nLOCATION:  Meet in front of the Dog Park Entrance on Diamond Way\n\n\n\n***IMPORTANT: ADVANCED SIGN UP REQUIRED!*** \nPlease sign up by clicking this link\n\n\nIf you have any questions please email us at FireSmart\n\nThank you in advance for your donating your time and helping to make our community a better and safer place to live.\n\n\nSincerely\, \nYour Predator Ridge Community Safety Committee (PRCS) FireSmart Team.
URL:https://prcemc.ca/event/firesmart-community-event-2/
LOCATION:BC
CATEGORIES:Events,FireSmart
END:VEVENT
BEGIN:VEVENT
DTSTART;TZID=America/Vancouver:20231018T100000
DTEND;TZID=America/Vancouver:20231018T110000
DTSTAMP:20260424T040239
CREATED:20230301T153658Z
LAST-MODIFIED:20230301T155318Z
UID:10000026-1697623200-1697626800@prcemc.ca
SUMMARY:VEPS Monthly Meeting
DESCRIPTION:Monthly ZOOM meeting of the Vernon Emergency Planning Subcommittee
URL:https://prcemc.ca/event/veps-monthly-meeting-2/2023-10-18/
LOCATION:Virtual ZOOM Meeting\, Canada
CATEGORIES:Education,Planning
ATTACH;FMTTYPE=image/png:https://prcemc.ca/wp-content/uploads/2023/03/PRCEMC-part-300-x-222.png
END:VEVENT
BEGIN:VEVENT
DTSTART;TZID=America/Vancouver:20231004T140000
DTEND;TZID=America/Vancouver:20231004T140100
DTSTAMP:20260424T040239
CREATED:20230518T230659Z
LAST-MODIFIED:20230518T231739Z
UID:10000045-1696428000-1696428060@prcemc.ca
SUMMARY:AC Siren Growl Test
DESCRIPTION:Test of the AC circuits – performs a low volume short siren GROWL
URL:https://prcemc.ca/event/ac-siren-growl-test/2023-10-04/
LOCATION:Fire Station #3 70 Predator Ridge Drive\, Vernon\, BC\, 70 Predator Ridge Drive\, Vernon\, BC\, Canada
CATEGORIES:Siren Growl Test
ATTACH;FMTTYPE=image/png:https://prcemc.ca/wp-content/uploads/2023/02/T-128-Photo-250x250-1.png
ORGANIZER;CN="PRCS":MAILTO:info@prcemc.ca
END:VEVENT
BEGIN:VEVENT
DTSTART;TZID=America/Vancouver:20230906T140000
DTEND;TZID=America/Vancouver:20230906T140100
DTSTAMP:20260424T040239
CREATED:20230518T231420Z
LAST-MODIFIED:20230518T231420Z
UID:10000074-1694008800-1694008860@prcemc.ca
SUMMARY:DC Siren Growl Test
DESCRIPTION:Test of the DC circuits (battery backup) – performs a low volume short siren GROWL
URL:https://prcemc.ca/event/dc-siren-growl-test/2023-09-06/
LOCATION:Fire Station #3 70 Predator Ridge Drive\, Vernon\, BC\, 70 Predator Ridge Drive\, Vernon\, BC\, Canada
CATEGORIES:Siren Growl Test
ATTACH;FMTTYPE=image/png:https://prcemc.ca/wp-content/uploads/2023/02/T-128-Photo-250x250-1.png
ORGANIZER;CN="PRCS":MAILTO:info@prcemc.ca
END:VEVENT
BEGIN:VEVENT
DTSTART;TZID=America/Vancouver:20230802T140000
DTEND;TZID=America/Vancouver:20230802T140100
DTSTAMP:20260424T040239
CREATED:20230518T230659Z
LAST-MODIFIED:20230518T231739Z
UID:10000044-1690984800-1690984860@prcemc.ca
SUMMARY:AC Siren Growl Test
DESCRIPTION:Test of the AC circuits – performs a low volume short siren GROWL
URL:https://prcemc.ca/event/ac-siren-growl-test/2023-08-02/
LOCATION:Fire Station #3 70 Predator Ridge Drive\, Vernon\, BC\, 70 Predator Ridge Drive\, Vernon\, BC\, Canada
CATEGORIES:Siren Growl Test
ATTACH;FMTTYPE=image/png:https://prcemc.ca/wp-content/uploads/2023/02/T-128-Photo-250x250-1.png
ORGANIZER;CN="PRCS":MAILTO:info@prcemc.ca
END:VEVENT
END:VCALENDAR