BEGIN:VCALENDAR
VERSION:2.0
PRODID:-//Predator Ridge Community Safety - ECPv6.15.20//NONSGML v1.0//EN
CALSCALE:GREGORIAN
METHOD:PUBLISH
X-WR-CALNAME:Predator Ridge Community Safety
X-ORIGINAL-URL:https://prcemc.ca
X-WR-CALDESC:Events for Predator Ridge Community Safety
REFRESH-INTERVAL;VALUE=DURATION:PT1H
X-Robots-Tag:noindex
X-PUBLISHED-TTL:PT1H
BEGIN:VTIMEZONE
TZID:America/Vancouver
BEGIN:DAYLIGHT
TZOFFSETFROM:-0800
TZOFFSETTO:-0700
TZNAME:PDT
DTSTART:20180311T100000
END:DAYLIGHT
BEGIN:STANDARD
TZOFFSETFROM:-0700
TZOFFSETTO:-0800
TZNAME:PST
DTSTART:20181104T090000
END:STANDARD
BEGIN:DAYLIGHT
TZOFFSETFROM:-0800
TZOFFSETTO:-0700
TZNAME:PDT
DTSTART:20190310T100000
END:DAYLIGHT
BEGIN:STANDARD
TZOFFSETFROM:-0700
TZOFFSETTO:-0800
TZNAME:PST
DTSTART:20191103T090000
END:STANDARD
BEGIN:DAYLIGHT
TZOFFSETFROM:-0800
TZOFFSETTO:-0700
TZNAME:PDT
DTSTART:20200308T100000
END:DAYLIGHT
BEGIN:STANDARD
TZOFFSETFROM:-0700
TZOFFSETTO:-0800
TZNAME:PST
DTSTART:20201101T090000
END:STANDARD
END:VTIMEZONE
BEGIN:VEVENT
DTSTART;TZID=America/Vancouver:20190714T090000
DTEND;TZID=America/Vancouver:20190714T120000
DTSTAMP:20260425T050216
CREATED:20190708T135309Z
LAST-MODIFIED:20190708T135352Z
UID:10000015-1563094800-1563105600@prcemc.ca
SUMMARY:FireSmart Clean-Up Event
DESCRIPTION:The FireSmart Committee is holding a clean-up event on Sunday\, July 14th at 9:00 am to assist the Falcon Point Residents complete a FireSmart clean-up of the Chicopee/Falcon Point common property in areas 1\, 2 & 3. See the colour coded map below: \n\n\n\n\n\n\n\nThe FireSmart committee will be on hand at the Hockey Canada Cabin on Sunday\, July 14th beginning at 9:00 am with all kinds of great information on FireSmart. This is a great opportunity to learn more about FireSmart and how you can help protect your property from wildfire. FireSmart manuals will be available as well as other educational materials. This is a good opportunity for Predator Ridge residents to come out and see first hand what FireSmart is all about and what can be done around their own homes with laddering trees\, cleaning up pine cones\, etc. \n\n\n\nFor those folks that would like to participate in the clean-up\, gloves\, vests\, safety glasses and electric saws will be provided. We anticipate the FireSmart Clean-up will take 3 hours to complete and we will get underway at 9:00 am. Meet at the Hockey Canada Cabin.
URL:https://prcemc.ca/event/firesmart-clean-up-event/
CATEGORIES:Education,Events
ORGANIZER;CN="Gerry Fester":MAILTO:festerg1@telus.net
END:VEVENT
BEGIN:VEVENT
DTSTART;VALUE=DATE:20190701
DTEND;VALUE=DATE:20190702
DTSTAMP:20260425T050216
CREATED:20190701T132728Z
LAST-MODIFIED:20190701T132728Z
UID:10000018-1561939200-1562025599@prcemc.ca
SUMMARY:HAPPY CANADA DAY
DESCRIPTION:
URL:https://prcemc.ca/event/happy-canada-day/
END:VEVENT
BEGIN:VEVENT
DTSTART;VALUE=DATE:20190616
DTEND;VALUE=DATE:20190617
DTSTAMP:20260425T050216
CREATED:20190602T190345Z
LAST-MODIFIED:20190602T190345Z
UID:10000016-1560643200-1560729599@prcemc.ca
SUMMARY:Happy Father's Day
DESCRIPTION:
URL:https://prcemc.ca/event/happy-fathers-day/
ATTACH;FMTTYPE=image/jpeg:https://prcemc.ca/wp-content/uploads/2019/06/Happy-Fathers-Day.jpg
END:VEVENT
BEGIN:VEVENT
DTSTART;TZID=America/Vancouver:20190610T090000
DTEND;TZID=America/Vancouver:20190610T130000
DTSTAMP:20260425T050216
CREATED:20190601T152011Z
LAST-MODIFIED:20190601T152011Z
UID:10000011-1560157200-1560171600@prcemc.ca
SUMMARY:CPR/AED COURSE AT PREDATOR RIDGE - JUNE 10
DESCRIPTION:Learn how to save a life and get Level A CPR/AED certified.\nThis special Red Cross led session has been organized by resident Therese Roberts and is exclusively open to our Homeowners & Members.  Space is extremely limited\, so secure your spot and learn how you can save a life. \n \nCourse Content\n\nResponding to Emergencies\nCheck\, Call\, Care\nRecovery Position\nChoking (Adult)\nAssisting with Medications\nAngina and Heart Attack\nStroke\nCPR and AED (Adult)\nDeadly Bleeding\n\nHOSTED BY:  Red Cross First Aid – Okanagan College\nWHAT TO WEAR:  Casual Clothing.  No Skirt\nHOW TO REGISTER:  Pre-registration and advanced payment of $75/person is required.  To register\, please phone Okanagan College directly at: (250) 545-7291 x 2850. \nA MINIMUM OF 12 AND MAXIMUM OF 18 SPOTS ARE AVAILABLE\,\nSO BOOK SOON TO AVOID DISAPPOINTMENT! 
URL:https://prcemc.ca/event/cpr-aed-course-at-predator-ridge-june-10/
LOCATION:Predator Ridge Clubhouse – Lower Level Ballroom\, 301 Village Centre Place\, Vernon\, British Columbia\, V1H1T2\, Canada
CATEGORIES:CPR Training
ATTACH;FMTTYPE=image/jpeg:https://prcemc.ca/wp-content/uploads/2019/06/CPR-AED-Training-Header.jpg
ORGANIZER;CN="Therese Roberts":MAILTO:terez@telus.net
END:VEVENT
BEGIN:VEVENT
DTSTART;TZID=America/Vancouver:20190605T183000
DTEND;TZID=America/Vancouver:20190605T203000
DTSTAMP:20260425T050216
CREATED:20190601T170618Z
LAST-MODIFIED:20190601T180538Z
UID:10000012-1559759400-1559766600@prcemc.ca
SUMMARY:PREDATOR RIDGE ANNUAL TOWNHALL MEETING
DESCRIPTION:Join Brad Pelletier and the Predator Ridge Team to learn more about what we’ve got planned this season\, including more details on our new amenities and Homeowner & Member events. We will also provide you with a general community and development update including details on The Commonage neighborhood\, Racquet Club Clubhouse and more. \nCome out and meet some of our new team members and hear from a few key team members on what you can look forward to in the upcoming season. \nWe welcome any questions you may have during the session and invite you to send any questions ahead of time to: predatorridge@predatorridge.com \nWe look forward to seeing you all at this event. \nSincerely\, \nThe Predator Ridge Team
URL:https://prcemc.ca/event/predator-ridge-annual-townhall-meeting/
LOCATION:Predator Ridge Clubhouse – Lower Level Ballroom\, 301 Village Centre Place\, Vernon\, British Columbia\, V1H1T2\, Canada
CATEGORIES:Events
ATTACH;FMTTYPE=image/jpeg:https://prcemc.ca/wp-content/uploads/2019/06/AerialResort-Header.jpg
ORGANIZER;CN="Predator Ridge":MAILTO:predatorridge@predatorridge.com
END:VEVENT
BEGIN:VEVENT
DTSTART;TZID=America/Vancouver:20190518T130000
DTEND;TZID=America/Vancouver:20190518T160000
DTSTAMP:20260425T050216
CREATED:20190508T052925Z
LAST-MODIFIED:20190508T053819Z
UID:10000001-1558184400-1558195200@prcemc.ca
SUMMARY:Building Climate Resilience in the Okanagan: A Homeowners Guide
DESCRIPTION:Recent flooding and wildfire events have strained the resources of Okanagan residents to adapt to climate change. Homeowners are facing environmental changes and struggling to understand the best ways to respond. The looming question is “How ready are private property owners to cope with impacts of climate change?” \nAdmission is free but you must REGISTER to attend:  Please feel free to share this post with your network. \nIf you are unable attend the festival\, the guidebook is available at the following link: GET THE GUIDEBOOK
URL:https://prcemc.ca/event/building-climate-resilience-in-the-okanagan-a-homeowners-guide/
LOCATION:En’owkin Centre\, 154 ENOWKIN TRAIL\, Penticton\, British Columbia\, V2A 0E1\, Canada
END:VEVENT
BEGIN:VEVENT
DTSTART;TZID=America/Vancouver:20190513T183000
DTEND;TZID=America/Vancouver:20190513T203000
DTSTAMP:20260425T050216
CREATED:20190505T211149Z
LAST-MODIFIED:20190506T220113Z
UID:10000013-1557772200-1557779400@prcemc.ca
SUMMARY:Community Forum on Emergency Preparedness
DESCRIPTION:Plan to attend to hear more about what the PRCEMC is all about and learn more about its organizations such as FireSmart\, Block Watch and the Commonage Road Improvement Committee (CRIC).
URL:https://prcemc.ca/event/community-forum-on-emergency-preparedness/
LOCATION:Predator Ridge Clubhouse – Lower Level Ballroom\, 301 Village Centre Place\, Vernon\, British Columbia\, V1H1T2\, Canada
CATEGORIES:Events
ATTACH;FMTTYPE=image/png:https://prcemc.ca/wp-content/uploads/2019/05/PRCEMC-Logo-w_stroke-1-e1557093741343.png
END:VEVENT
BEGIN:VEVENT
DTSTART;VALUE=DATE:20190511
DTEND;VALUE=DATE:20190512
DTSTAMP:20260425T050216
CREATED:20190511T195625Z
LAST-MODIFIED:20190511T195752Z
UID:10000010-1557532800-1557619199@prcemc.ca
SUMMARY:National Animal Disaster Preparedness Day
DESCRIPTION:BC…If disaster strikes\, will you be prepared?\nToday is National Animal Disaster Preparedness Day\, a good time to consider if you are prepared for the unexpected. Good planning can make all the difference in the event of a fire\, flood\, earthquake or other disaster. Don’t forget to include your pets in the plan – this free BC SPCA emergency checklist outlines everything you will need to ensure your furry family members are safe if disaster strikes. \nGet the free emergency checklist. \nDon’t wait until it is too late. \nDOWNLOAD THE CHECKLIST
URL:https://prcemc.ca/event/national-animal-disaster-preparedness-day/
LOCATION:Virtual ZOOM Meeting\, Canada
CATEGORIES:Events,Pets
END:VEVENT
BEGIN:VEVENT
DTSTART;VALUE=DATE:20190505
DTEND;VALUE=DATE:20190512
DTSTAMP:20260425T050216
CREATED:20190506T002450Z
LAST-MODIFIED:20190506T002450Z
UID:10000014-1557014400-1557619199@prcemc.ca
SUMMARY:Emergency Preparedness Week
DESCRIPTION:This year\, Emergency Preparedness Week (EP Week) is May 5-11\, 2019. \nEmergency Preparedness Week is a national awareness initiative that has taken place annually since 1996. It is a collaborative event undertaken by provincial and territorial emergency management organizations supporting activities at the local level\, in concert with Public Safety Canada and partners. EP Week encourages Canadians to take three simple steps to become better prepared to face a range of emergencies: \n\nKnow the risks\nMake a plan\nGet an emergency kit
URL:https://prcemc.ca/event/emergency-preparedness-week/
CATEGORIES:Events
ATTACH;FMTTYPE=image/png:https://prcemc.ca/wp-content/uploads/2019/05/EPW-Graphic.png
END:VEVENT
END:VCALENDAR