BEGIN:VCALENDAR
VERSION:2.0
PRODID:-//Predator Ridge Community Safety - ECPv6.15.20//NONSGML v1.0//EN
CALSCALE:GREGORIAN
METHOD:PUBLISH
X-WR-CALNAME:Predator Ridge Community Safety
X-ORIGINAL-URL:https://prcemc.ca
X-WR-CALDESC:Events for Predator Ridge Community Safety
REFRESH-INTERVAL;VALUE=DURATION:PT1H
X-Robots-Tag:noindex
X-PUBLISHED-TTL:PT1H
BEGIN:VTIMEZONE
TZID:America/Vancouver
BEGIN:DAYLIGHT
TZOFFSETFROM:-0800
TZOFFSETTO:-0700
TZNAME:PDT
DTSTART:20230312T100000
END:DAYLIGHT
BEGIN:STANDARD
TZOFFSETFROM:-0700
TZOFFSETTO:-0800
TZNAME:PST
DTSTART:20231105T090000
END:STANDARD
BEGIN:DAYLIGHT
TZOFFSETFROM:-0800
TZOFFSETTO:-0700
TZNAME:PDT
DTSTART:20240310T100000
END:DAYLIGHT
BEGIN:STANDARD
TZOFFSETFROM:-0700
TZOFFSETTO:-0800
TZNAME:PST
DTSTART:20241103T090000
END:STANDARD
BEGIN:DAYLIGHT
TZOFFSETFROM:-0800
TZOFFSETTO:-0700
TZNAME:PDT
DTSTART:20250309T100000
END:DAYLIGHT
BEGIN:STANDARD
TZOFFSETFROM:-0700
TZOFFSETTO:-0800
TZNAME:PST
DTSTART:20251102T090000
END:STANDARD
BEGIN:DAYLIGHT
TZOFFSETFROM:-0800
TZOFFSETTO:-0700
TZNAME:PDT
DTSTART:20260308T100000
END:DAYLIGHT
BEGIN:STANDARD
TZOFFSETFROM:-0700
TZOFFSETTO:-0800
TZNAME:PST
DTSTART:20261101T090000
END:STANDARD
BEGIN:DAYLIGHT
TZOFFSETFROM:-0800
TZOFFSETTO:-0700
TZNAME:PDT
DTSTART:20270314T100000
END:DAYLIGHT
BEGIN:STANDARD
TZOFFSETFROM:-0700
TZOFFSETTO:-0800
TZNAME:PST
DTSTART:20271107T090000
END:STANDARD
END:VTIMEZONE
BEGIN:VEVENT
DTSTART;TZID=America/Vancouver:20260401T140000
DTEND;TZID=America/Vancouver:20260401T140100
DTSTAMP:20260423T110957
CREATED:20230518T230659Z
LAST-MODIFIED:20230518T231739Z
UID:10000060-1775052000-1775052060@prcemc.ca
SUMMARY:AC Siren Growl Test
DESCRIPTION:Test of the AC circuits – performs a low volume short siren GROWL
URL:https://prcemc.ca/event/ac-siren-growl-test/2026-04-01/
LOCATION:Fire Station #3 70 Predator Ridge Drive\, Vernon\, BC\, 70 Predator Ridge Drive\, Vernon\, BC\, Canada
CATEGORIES:Siren Growl Test
ATTACH;FMTTYPE=image/png:https://prcemc.ca/wp-content/uploads/2023/02/T-128-Photo-250x250-1.png
ORGANIZER;CN="PRCS":MAILTO:info@prcemc.ca
END:VEVENT
BEGIN:VEVENT
DTSTART;TZID=America/Vancouver:20260304T140000
DTEND;TZID=America/Vancouver:20260304T140100
DTSTAMP:20260423T110957
CREATED:20230518T231420Z
LAST-MODIFIED:20230518T231420Z
UID:10000089-1772632800-1772632860@prcemc.ca
SUMMARY:DC Siren Growl Test
DESCRIPTION:Test of the DC circuits (battery backup) – performs a low volume short siren GROWL
URL:https://prcemc.ca/event/dc-siren-growl-test/2026-03-04/
LOCATION:Fire Station #3 70 Predator Ridge Drive\, Vernon\, BC\, 70 Predator Ridge Drive\, Vernon\, BC\, Canada
CATEGORIES:Siren Growl Test
ATTACH;FMTTYPE=image/png:https://prcemc.ca/wp-content/uploads/2023/02/T-128-Photo-250x250-1.png
ORGANIZER;CN="PRCS":MAILTO:info@prcemc.ca
END:VEVENT
BEGIN:VEVENT
DTSTART;TZID=America/Vancouver:20260204T140000
DTEND;TZID=America/Vancouver:20260204T140100
DTSTAMP:20260423T110957
CREATED:20230518T230659Z
LAST-MODIFIED:20230518T231739Z
UID:10000059-1770213600-1770213660@prcemc.ca
SUMMARY:AC Siren Growl Test
DESCRIPTION:Test of the AC circuits – performs a low volume short siren GROWL
URL:https://prcemc.ca/event/ac-siren-growl-test/2026-02-04/
LOCATION:Fire Station #3 70 Predator Ridge Drive\, Vernon\, BC\, 70 Predator Ridge Drive\, Vernon\, BC\, Canada
CATEGORIES:Siren Growl Test
ATTACH;FMTTYPE=image/png:https://prcemc.ca/wp-content/uploads/2023/02/T-128-Photo-250x250-1.png
ORGANIZER;CN="PRCS":MAILTO:info@prcemc.ca
END:VEVENT
BEGIN:VEVENT
DTSTART;TZID=America/Vancouver:20260107T140000
DTEND;TZID=America/Vancouver:20260107T140100
DTSTAMP:20260423T110957
CREATED:20230518T231420Z
LAST-MODIFIED:20230518T231420Z
UID:10000088-1767794400-1767794460@prcemc.ca
SUMMARY:DC Siren Growl Test
DESCRIPTION:Test of the DC circuits (battery backup) – performs a low volume short siren GROWL
URL:https://prcemc.ca/event/dc-siren-growl-test/2026-01-07/
LOCATION:Fire Station #3 70 Predator Ridge Drive\, Vernon\, BC\, 70 Predator Ridge Drive\, Vernon\, BC\, Canada
CATEGORIES:Siren Growl Test
ATTACH;FMTTYPE=image/png:https://prcemc.ca/wp-content/uploads/2023/02/T-128-Photo-250x250-1.png
ORGANIZER;CN="PRCS":MAILTO:info@prcemc.ca
END:VEVENT
BEGIN:VEVENT
DTSTART;TZID=America/Vancouver:20251203T140000
DTEND;TZID=America/Vancouver:20251203T140100
DTSTAMP:20260423T110957
CREATED:20230518T230659Z
LAST-MODIFIED:20230518T231739Z
UID:10000058-1764770400-1764770460@prcemc.ca
SUMMARY:AC Siren Growl Test
DESCRIPTION:Test of the AC circuits – performs a low volume short siren GROWL
URL:https://prcemc.ca/event/ac-siren-growl-test/2025-12-03/
LOCATION:Fire Station #3 70 Predator Ridge Drive\, Vernon\, BC\, 70 Predator Ridge Drive\, Vernon\, BC\, Canada
CATEGORIES:Siren Growl Test
ATTACH;FMTTYPE=image/png:https://prcemc.ca/wp-content/uploads/2023/02/T-128-Photo-250x250-1.png
ORGANIZER;CN="PRCS":MAILTO:info@prcemc.ca
END:VEVENT
BEGIN:VEVENT
DTSTART;TZID=America/Vancouver:20251105T140000
DTEND;TZID=America/Vancouver:20251105T140100
DTSTAMP:20260423T110957
CREATED:20230518T231420Z
LAST-MODIFIED:20230518T231420Z
UID:10000087-1762351200-1762351260@prcemc.ca
SUMMARY:DC Siren Growl Test
DESCRIPTION:Test of the DC circuits (battery backup) – performs a low volume short siren GROWL
URL:https://prcemc.ca/event/dc-siren-growl-test/2025-11-05/
LOCATION:Fire Station #3 70 Predator Ridge Drive\, Vernon\, BC\, 70 Predator Ridge Drive\, Vernon\, BC\, Canada
CATEGORIES:Siren Growl Test
ATTACH;FMTTYPE=image/png:https://prcemc.ca/wp-content/uploads/2023/02/T-128-Photo-250x250-1.png
ORGANIZER;CN="PRCS":MAILTO:info@prcemc.ca
END:VEVENT
BEGIN:VEVENT
DTSTART;TZID=America/Vancouver:20251026T083000
DTEND;TZID=America/Vancouver:20251026T130000
DTSTAMP:20260423T110957
CREATED:20250921T202235Z
LAST-MODIFIED:20250921T202235Z
UID:10000112-1761467400-1761483600@prcemc.ca
SUMMARY:FireSmart Community Cleanup Event
DESCRIPTION:Dear Neighbours\, \nAre you looking to learn more about FireSmart and what you can do to protect your home and community? \nJoin us at our upcoming clean-up event and learn what you can do to FireSmart your property.  You can also visit the PRCEMC website at: PRCEMC.ca/FireSmart for more information and FireSmart resources. \nCLEAN-UP EVENT:  Commonage Neighbourhood \nDATE:  Sunday\, October 26\, 2025 \nThe FireSmart Committee is excited to announce that the Commonage neighbourhood will be the site of our next FireSmart clean-up event.  The area to be cleaned is the common property and park area directly below the Dog Park. \nThe committee is currently looking for volunteers to assist with the clean-up and welcome all helping hands. Our collective efforts will help make our community a safer place to live. \nWater and snacks will be provided\, as well as safety glasses\, hi-vis vests and gloves\, should you require them.  Volunteers should be prepared for sloping and uneven ground and appropriate footwear should be worn. \nA safety orientation will be held at the dog park entrance at 8:30am prior to the clean-up event getting underway.  We hope to see you there for a fun morning of FireSmart! \nThe PRCS FireSmart Coordinator will be on hand to answer questions and will be providing a Hot Dog and Hamburger BBQ starting at 12:30 pm for all our hungry volunteers. \nEVENT DETAILS  \nDATE:  Sunday\, October 26\, 2025 \nTIME:   8:30am – 1:00pm \nLOCATION:  Meet at the entrance to the Dog Park on Diamond Way \n*** IMPORTANT: ADVANCED SIGN UP IS REQUIRED! ***  \nPlease sign up by clicking this link \nIf you have any questions\, please contact us or download the event details. \nThank you in advance for donating your time and helping to make our community a better and safer place to live. \nSincerely\, \nYour Predator Ridge Community Safety (PRCS) Committee – FireSmart Team.
URL:https://prcemc.ca/event/firesmart-community-cleanup-event/
LOCATION:Diamond Way by the Dog Park Entry
CATEGORIES:Education,Events,FireSmart
ATTACH;FMTTYPE=image/jpeg:https://prcemc.ca/wp-content/uploads/2025/09/Proposed-Cleanup-Area-Map-scaled.jpg
ORGANIZER;CN="PRCS":MAILTO:info@prcemc.ca
END:VEVENT
BEGIN:VEVENT
DTSTART;TZID=America/Vancouver:20251001T140000
DTEND;TZID=America/Vancouver:20251001T140100
DTSTAMP:20260423T110957
CREATED:20230518T230659Z
LAST-MODIFIED:20230518T231739Z
UID:10000057-1759327200-1759327260@prcemc.ca
SUMMARY:AC Siren Growl Test
DESCRIPTION:Test of the AC circuits – performs a low volume short siren GROWL
URL:https://prcemc.ca/event/ac-siren-growl-test/2025-10-01/
LOCATION:Fire Station #3 70 Predator Ridge Drive\, Vernon\, BC\, 70 Predator Ridge Drive\, Vernon\, BC\, Canada
CATEGORIES:Siren Growl Test
ATTACH;FMTTYPE=image/png:https://prcemc.ca/wp-content/uploads/2023/02/T-128-Photo-250x250-1.png
ORGANIZER;CN="PRCS":MAILTO:info@prcemc.ca
END:VEVENT
BEGIN:VEVENT
DTSTART;TZID=America/Vancouver:20250903T140000
DTEND;TZID=America/Vancouver:20250903T140100
DTSTAMP:20260423T110957
CREATED:20230518T231420Z
LAST-MODIFIED:20230518T231420Z
UID:10000086-1756908000-1756908060@prcemc.ca
SUMMARY:DC Siren Growl Test
DESCRIPTION:Test of the DC circuits (battery backup) – performs a low volume short siren GROWL
URL:https://prcemc.ca/event/dc-siren-growl-test/2025-09-03/
LOCATION:Fire Station #3 70 Predator Ridge Drive\, Vernon\, BC\, 70 Predator Ridge Drive\, Vernon\, BC\, Canada
CATEGORIES:Siren Growl Test
ATTACH;FMTTYPE=image/png:https://prcemc.ca/wp-content/uploads/2023/02/T-128-Photo-250x250-1.png
ORGANIZER;CN="PRCS":MAILTO:info@prcemc.ca
END:VEVENT
BEGIN:VEVENT
DTSTART;TZID=America/Vancouver:20250806T140000
DTEND;TZID=America/Vancouver:20250806T140100
DTSTAMP:20260423T110957
CREATED:20230518T230659Z
LAST-MODIFIED:20230518T231739Z
UID:10000056-1754488800-1754488860@prcemc.ca
SUMMARY:AC Siren Growl Test
DESCRIPTION:Test of the AC circuits – performs a low volume short siren GROWL
URL:https://prcemc.ca/event/ac-siren-growl-test/2025-08-06/
LOCATION:Fire Station #3 70 Predator Ridge Drive\, Vernon\, BC\, 70 Predator Ridge Drive\, Vernon\, BC\, Canada
CATEGORIES:Siren Growl Test
ATTACH;FMTTYPE=image/png:https://prcemc.ca/wp-content/uploads/2023/02/T-128-Photo-250x250-1.png
ORGANIZER;CN="PRCS":MAILTO:info@prcemc.ca
END:VEVENT
BEGIN:VEVENT
DTSTART;TZID=America/Vancouver:20250702T140000
DTEND;TZID=America/Vancouver:20250702T140100
DTSTAMP:20260423T110957
CREATED:20230518T231420Z
LAST-MODIFIED:20230518T231420Z
UID:10000085-1751464800-1751464860@prcemc.ca
SUMMARY:DC Siren Growl Test
DESCRIPTION:Test of the DC circuits (battery backup) – performs a low volume short siren GROWL
URL:https://prcemc.ca/event/dc-siren-growl-test/2025-07-02/
LOCATION:Fire Station #3 70 Predator Ridge Drive\, Vernon\, BC\, 70 Predator Ridge Drive\, Vernon\, BC\, Canada
CATEGORIES:Siren Growl Test
ATTACH;FMTTYPE=image/png:https://prcemc.ca/wp-content/uploads/2023/02/T-128-Photo-250x250-1.png
ORGANIZER;CN="PRCS":MAILTO:info@prcemc.ca
END:VEVENT
BEGIN:VEVENT
DTSTART;TZID=America/Vancouver:20250626T160000
DTEND;TZID=America/Vancouver:20250626T180000
DTSTAMP:20260423T110957
CREATED:20250621T144103Z
LAST-MODIFIED:20250621T144103Z
UID:10000110-1750953600-1750960800@prcemc.ca
SUMMARY:Community Safety Meeting
DESCRIPTION:Dear Neighbours\,\n\n\nThere’s still time to join the Predator Ridge Community Safety Committee for an important and engaging conversation at their upcoming community safety meeting\, next Thursday afternoon.\n\n\n\nEVENT INFORMATION\n• Date: Thursday\, June 26\, 2025\n• Time: 4:00pm – 6:00pm\n• Location: Commonage Ballroom (lower level of the Clubhouse)\n\n\nWe ask that you please register using the link provided below. Registration closes on Monday\, June 23.\n\nWe look forward to seeing you there.\n\nSincerely\,\n\nPRCS Committee\nGord Wilson\nJane Toppozini\nGord Ball\nRobert Scott\n\nCLICK HERE TO REGISTER
URL:https://prcemc.ca/event/community-safety-meeting/
LOCATION:Predator Ridge Clubhouse – Lower Level Ballroom\, 301 Village Centre Place\, Vernon\, British Columbia\, V1H1T2\, Canada
CATEGORIES:Education,Events
ATTACH;FMTTYPE=image/jpeg:https://prcemc.ca/wp-content/uploads/2025/06/PR-SafetyCommittee-Header.jpg
ORGANIZER;CN="PRCS":MAILTO:info@prcemc.ca
END:VEVENT
BEGIN:VEVENT
DTSTART;TZID=America/Vancouver:20250604T140000
DTEND;TZID=America/Vancouver:20250604T140100
DTSTAMP:20260423T110957
CREATED:20230518T230659Z
LAST-MODIFIED:20230518T231739Z
UID:10000055-1749045600-1749045660@prcemc.ca
SUMMARY:AC Siren Growl Test
DESCRIPTION:Test of the AC circuits – performs a low volume short siren GROWL
URL:https://prcemc.ca/event/ac-siren-growl-test/2025-06-04/
LOCATION:Fire Station #3 70 Predator Ridge Drive\, Vernon\, BC\, 70 Predator Ridge Drive\, Vernon\, BC\, Canada
CATEGORIES:Siren Growl Test
ATTACH;FMTTYPE=image/png:https://prcemc.ca/wp-content/uploads/2023/02/T-128-Photo-250x250-1.png
ORGANIZER;CN="PRCS":MAILTO:info@prcemc.ca
END:VEVENT
BEGIN:VEVENT
DTSTART;TZID=America/Vancouver:20250507T140000
DTEND;TZID=America/Vancouver:20250507T140100
DTSTAMP:20260423T110957
CREATED:20230518T231420Z
LAST-MODIFIED:20230518T231420Z
UID:10000084-1746626400-1746626460@prcemc.ca
SUMMARY:DC Siren Growl Test
DESCRIPTION:Test of the DC circuits (battery backup) – performs a low volume short siren GROWL
URL:https://prcemc.ca/event/dc-siren-growl-test/2025-05-07/
LOCATION:Fire Station #3 70 Predator Ridge Drive\, Vernon\, BC\, 70 Predator Ridge Drive\, Vernon\, BC\, Canada
CATEGORIES:Siren Growl Test
ATTACH;FMTTYPE=image/png:https://prcemc.ca/wp-content/uploads/2023/02/T-128-Photo-250x250-1.png
ORGANIZER;CN="PRCS":MAILTO:info@prcemc.ca
END:VEVENT
BEGIN:VEVENT
DTSTART;TZID=America/Vancouver:20250402T140000
DTEND;TZID=America/Vancouver:20250402T140100
DTSTAMP:20260423T110957
CREATED:20230518T230659Z
LAST-MODIFIED:20230518T231739Z
UID:10000054-1743602400-1743602460@prcemc.ca
SUMMARY:AC Siren Growl Test
DESCRIPTION:Test of the AC circuits – performs a low volume short siren GROWL
URL:https://prcemc.ca/event/ac-siren-growl-test/2025-04-02/
LOCATION:Fire Station #3 70 Predator Ridge Drive\, Vernon\, BC\, 70 Predator Ridge Drive\, Vernon\, BC\, Canada
CATEGORIES:Siren Growl Test
ATTACH;FMTTYPE=image/png:https://prcemc.ca/wp-content/uploads/2023/02/T-128-Photo-250x250-1.png
ORGANIZER;CN="PRCS":MAILTO:info@prcemc.ca
END:VEVENT
BEGIN:VEVENT
DTSTART;TZID=America/Vancouver:20250305T140000
DTEND;TZID=America/Vancouver:20250305T140100
DTSTAMP:20260423T110957
CREATED:20230518T231420Z
LAST-MODIFIED:20230518T231420Z
UID:10000083-1741183200-1741183260@prcemc.ca
SUMMARY:DC Siren Growl Test
DESCRIPTION:Test of the DC circuits (battery backup) – performs a low volume short siren GROWL
URL:https://prcemc.ca/event/dc-siren-growl-test/2025-03-05/
LOCATION:Fire Station #3 70 Predator Ridge Drive\, Vernon\, BC\, 70 Predator Ridge Drive\, Vernon\, BC\, Canada
CATEGORIES:Siren Growl Test
ATTACH;FMTTYPE=image/png:https://prcemc.ca/wp-content/uploads/2023/02/T-128-Photo-250x250-1.png
ORGANIZER;CN="PRCS":MAILTO:info@prcemc.ca
END:VEVENT
BEGIN:VEVENT
DTSTART;TZID=America/Vancouver:20250205T140000
DTEND;TZID=America/Vancouver:20250205T140100
DTSTAMP:20260423T110957
CREATED:20230518T230659Z
LAST-MODIFIED:20230518T231739Z
UID:10000053-1738764000-1738764060@prcemc.ca
SUMMARY:AC Siren Growl Test
DESCRIPTION:Test of the AC circuits – performs a low volume short siren GROWL
URL:https://prcemc.ca/event/ac-siren-growl-test/2025-02-05/
LOCATION:Fire Station #3 70 Predator Ridge Drive\, Vernon\, BC\, 70 Predator Ridge Drive\, Vernon\, BC\, Canada
CATEGORIES:Siren Growl Test
ATTACH;FMTTYPE=image/png:https://prcemc.ca/wp-content/uploads/2023/02/T-128-Photo-250x250-1.png
ORGANIZER;CN="PRCS":MAILTO:info@prcemc.ca
END:VEVENT
BEGIN:VEVENT
DTSTART;TZID=America/Vancouver:20250101T140000
DTEND;TZID=America/Vancouver:20250101T140100
DTSTAMP:20260423T110957
CREATED:20230518T231420Z
LAST-MODIFIED:20230518T231420Z
UID:10000082-1735740000-1735740060@prcemc.ca
SUMMARY:DC Siren Growl Test
DESCRIPTION:Test of the DC circuits (battery backup) – performs a low volume short siren GROWL
URL:https://prcemc.ca/event/dc-siren-growl-test/2025-01-01/
LOCATION:Fire Station #3 70 Predator Ridge Drive\, Vernon\, BC\, 70 Predator Ridge Drive\, Vernon\, BC\, Canada
CATEGORIES:Siren Growl Test
ATTACH;FMTTYPE=image/png:https://prcemc.ca/wp-content/uploads/2023/02/T-128-Photo-250x250-1.png
ORGANIZER;CN="PRCS":MAILTO:info@prcemc.ca
END:VEVENT
BEGIN:VEVENT
DTSTART;TZID=America/Vancouver:20241204T140000
DTEND;TZID=America/Vancouver:20241204T140100
DTSTAMP:20260423T110957
CREATED:20230518T230659Z
LAST-MODIFIED:20230518T231739Z
UID:10000052-1733320800-1733320860@prcemc.ca
SUMMARY:AC Siren Growl Test
DESCRIPTION:Test of the AC circuits – performs a low volume short siren GROWL
URL:https://prcemc.ca/event/ac-siren-growl-test/2024-12-04/
LOCATION:Fire Station #3 70 Predator Ridge Drive\, Vernon\, BC\, 70 Predator Ridge Drive\, Vernon\, BC\, Canada
CATEGORIES:Siren Growl Test
ATTACH;FMTTYPE=image/png:https://prcemc.ca/wp-content/uploads/2023/02/T-128-Photo-250x250-1.png
ORGANIZER;CN="PRCS":MAILTO:info@prcemc.ca
END:VEVENT
BEGIN:VEVENT
DTSTART;TZID=America/Vancouver:20241106T140000
DTEND;TZID=America/Vancouver:20241106T140100
DTSTAMP:20260423T110957
CREATED:20230518T231420Z
LAST-MODIFIED:20230518T231420Z
UID:10000081-1730901600-1730901660@prcemc.ca
SUMMARY:DC Siren Growl Test
DESCRIPTION:Test of the DC circuits (battery backup) – performs a low volume short siren GROWL
URL:https://prcemc.ca/event/dc-siren-growl-test/2024-11-06/
LOCATION:Fire Station #3 70 Predator Ridge Drive\, Vernon\, BC\, 70 Predator Ridge Drive\, Vernon\, BC\, Canada
CATEGORIES:Siren Growl Test
ATTACH;FMTTYPE=image/png:https://prcemc.ca/wp-content/uploads/2023/02/T-128-Photo-250x250-1.png
ORGANIZER;CN="PRCS":MAILTO:info@prcemc.ca
END:VEVENT
BEGIN:VEVENT
DTSTART;TZID=America/Vancouver:20241002T140000
DTEND;TZID=America/Vancouver:20241002T140100
DTSTAMP:20260423T110957
CREATED:20230518T230659Z
LAST-MODIFIED:20230518T231739Z
UID:10000051-1727877600-1727877660@prcemc.ca
SUMMARY:AC Siren Growl Test
DESCRIPTION:Test of the AC circuits – performs a low volume short siren GROWL
URL:https://prcemc.ca/event/ac-siren-growl-test/2024-10-02/
LOCATION:Fire Station #3 70 Predator Ridge Drive\, Vernon\, BC\, 70 Predator Ridge Drive\, Vernon\, BC\, Canada
CATEGORIES:Siren Growl Test
ATTACH;FMTTYPE=image/png:https://prcemc.ca/wp-content/uploads/2023/02/T-128-Photo-250x250-1.png
ORGANIZER;CN="PRCS":MAILTO:info@prcemc.ca
END:VEVENT
BEGIN:VEVENT
DTSTART;TZID=America/Vancouver:20240904T140000
DTEND;TZID=America/Vancouver:20240904T140100
DTSTAMP:20260423T110957
CREATED:20230518T231420Z
LAST-MODIFIED:20230518T231420Z
UID:10000080-1725458400-1725458460@prcemc.ca
SUMMARY:DC Siren Growl Test
DESCRIPTION:Test of the DC circuits (battery backup) – performs a low volume short siren GROWL
URL:https://prcemc.ca/event/dc-siren-growl-test/2024-09-04/
LOCATION:Fire Station #3 70 Predator Ridge Drive\, Vernon\, BC\, 70 Predator Ridge Drive\, Vernon\, BC\, Canada
CATEGORIES:Siren Growl Test
ATTACH;FMTTYPE=image/png:https://prcemc.ca/wp-content/uploads/2023/02/T-128-Photo-250x250-1.png
ORGANIZER;CN="PRCS":MAILTO:info@prcemc.ca
END:VEVENT
BEGIN:VEVENT
DTSTART;TZID=America/Vancouver:20240807T140000
DTEND;TZID=America/Vancouver:20240807T140100
DTSTAMP:20260423T110957
CREATED:20230518T230659Z
LAST-MODIFIED:20230518T231739Z
UID:10000050-1723039200-1723039260@prcemc.ca
SUMMARY:AC Siren Growl Test
DESCRIPTION:Test of the AC circuits – performs a low volume short siren GROWL
URL:https://prcemc.ca/event/ac-siren-growl-test/2024-08-07/
LOCATION:Fire Station #3 70 Predator Ridge Drive\, Vernon\, BC\, 70 Predator Ridge Drive\, Vernon\, BC\, Canada
CATEGORIES:Siren Growl Test
ATTACH;FMTTYPE=image/png:https://prcemc.ca/wp-content/uploads/2023/02/T-128-Photo-250x250-1.png
ORGANIZER;CN="PRCS":MAILTO:info@prcemc.ca
END:VEVENT
BEGIN:VEVENT
DTSTART;TZID=America/Vancouver:20240703T140000
DTEND;TZID=America/Vancouver:20240703T140100
DTSTAMP:20260423T110957
CREATED:20230518T231420Z
LAST-MODIFIED:20230518T231420Z
UID:10000079-1720015200-1720015260@prcemc.ca
SUMMARY:DC Siren Growl Test
DESCRIPTION:Test of the DC circuits (battery backup) – performs a low volume short siren GROWL
URL:https://prcemc.ca/event/dc-siren-growl-test/2024-07-03/
LOCATION:Fire Station #3 70 Predator Ridge Drive\, Vernon\, BC\, 70 Predator Ridge Drive\, Vernon\, BC\, Canada
CATEGORIES:Siren Growl Test
ATTACH;FMTTYPE=image/png:https://prcemc.ca/wp-content/uploads/2023/02/T-128-Photo-250x250-1.png
ORGANIZER;CN="PRCS":MAILTO:info@prcemc.ca
END:VEVENT
BEGIN:VEVENT
DTSTART;TZID=America/Vancouver:20240605T140000
DTEND;TZID=America/Vancouver:20240605T140100
DTSTAMP:20260423T110957
CREATED:20230518T230659Z
LAST-MODIFIED:20230518T231739Z
UID:10000049-1717596000-1717596060@prcemc.ca
SUMMARY:AC Siren Growl Test
DESCRIPTION:Test of the AC circuits – performs a low volume short siren GROWL
URL:https://prcemc.ca/event/ac-siren-growl-test/2024-06-05/
LOCATION:Fire Station #3 70 Predator Ridge Drive\, Vernon\, BC\, 70 Predator Ridge Drive\, Vernon\, BC\, Canada
CATEGORIES:Siren Growl Test
ATTACH;FMTTYPE=image/png:https://prcemc.ca/wp-content/uploads/2023/02/T-128-Photo-250x250-1.png
ORGANIZER;CN="PRCS":MAILTO:info@prcemc.ca
END:VEVENT
BEGIN:VEVENT
DTSTART;TZID=America/Vancouver:20240518T083000
DTEND;TZID=America/Vancouver:20240518T123000
DTSTAMP:20260423T110957
CREATED:20240514T233527Z
LAST-MODIFIED:20241121T193246Z
UID:10000108-1716021000-1716035400@prcemc.ca
SUMMARY:FireSmart Community Cleanup Event
DESCRIPTION:We understand it’s a long weekend but If you’re not already committed\, we would really use your help. (Every weekend is a long weekend at Predator!!) \nThe more hands we have the faster the clean up…..what ever time you can spare 1 hr or the full morning.  Every little bit helps….. \nIf you can make it\, PLEASE register at the link below \nEVENT DETAILS  \nDATE:  Saturday\, May 18\, 2024 \nTIME:   9:00am – 12:00pm \nLOCATION:  Meet beside the entrance to the District on Diamond Way \nA safety orientation will be held at the dog park entrance at 8:30am prior to the clean-up event getting underway. \n \n For safety reasons and logistics it is imperative that all volunteer register for this FireSmart event . \nYou can sign up by clicking this link. \nWater and snacks will be provided\, as well as safety glasses\, hi-vis vests and gloves\, should you require them.  Volunteers should be prepared for sloping and uneven ground and appropriate footwear should be worn. \nThe PRCS FireSmart Coordinator will be on hand to answer questions and will be providing a Hot Dog BBQ starting at 12:30 pm for all our hungry volunteers. \nIf you have any questions\, please contact us. \nThank you in advance for donating your time and helping to make our community a better and safer place to live. \nSincerely\, \nYour Predator Ridge Community Safety (PRCS) Committee
URL:https://prcemc.ca/event/2885/
CATEGORIES:FireSmart
ORGANIZER;CN="PRCS":MAILTO:info@prcemc.ca
END:VEVENT
BEGIN:VEVENT
DTSTART;TZID=America/Vancouver:20240501T140000
DTEND;TZID=America/Vancouver:20240501T140100
DTSTAMP:20260423T110957
CREATED:20230518T231420Z
LAST-MODIFIED:20230518T231420Z
UID:10000078-1714572000-1714572060@prcemc.ca
SUMMARY:DC Siren Growl Test
DESCRIPTION:Test of the DC circuits (battery backup) – performs a low volume short siren GROWL
URL:https://prcemc.ca/event/dc-siren-growl-test/2024-05-01/
LOCATION:Fire Station #3 70 Predator Ridge Drive\, Vernon\, BC\, 70 Predator Ridge Drive\, Vernon\, BC\, Canada
CATEGORIES:Siren Growl Test
ATTACH;FMTTYPE=image/png:https://prcemc.ca/wp-content/uploads/2023/02/T-128-Photo-250x250-1.png
ORGANIZER;CN="PRCS":MAILTO:info@prcemc.ca
END:VEVENT
BEGIN:VEVENT
DTSTART;TZID=America/Vancouver:20240403T140000
DTEND;TZID=America/Vancouver:20240403T140100
DTSTAMP:20260423T110957
CREATED:20230518T230659Z
LAST-MODIFIED:20230518T231739Z
UID:10000048-1712152800-1712152860@prcemc.ca
SUMMARY:AC Siren Growl Test
DESCRIPTION:Test of the AC circuits – performs a low volume short siren GROWL
URL:https://prcemc.ca/event/ac-siren-growl-test/2024-04-03/
LOCATION:Fire Station #3 70 Predator Ridge Drive\, Vernon\, BC\, 70 Predator Ridge Drive\, Vernon\, BC\, Canada
CATEGORIES:Siren Growl Test
ATTACH;FMTTYPE=image/png:https://prcemc.ca/wp-content/uploads/2023/02/T-128-Photo-250x250-1.png
ORGANIZER;CN="PRCS":MAILTO:info@prcemc.ca
END:VEVENT
BEGIN:VEVENT
DTSTART;TZID=America/Vancouver:20240306T140000
DTEND;TZID=America/Vancouver:20240306T140100
DTSTAMP:20260423T110957
CREATED:20230518T231420Z
LAST-MODIFIED:20230518T231420Z
UID:10000077-1709733600-1709733660@prcemc.ca
SUMMARY:DC Siren Growl Test
DESCRIPTION:Test of the DC circuits (battery backup) – performs a low volume short siren GROWL
URL:https://prcemc.ca/event/dc-siren-growl-test/2024-03-06/
LOCATION:Fire Station #3 70 Predator Ridge Drive\, Vernon\, BC\, 70 Predator Ridge Drive\, Vernon\, BC\, Canada
CATEGORIES:Siren Growl Test
ATTACH;FMTTYPE=image/png:https://prcemc.ca/wp-content/uploads/2023/02/T-128-Photo-250x250-1.png
ORGANIZER;CN="PRCS":MAILTO:info@prcemc.ca
END:VEVENT
BEGIN:VEVENT
DTSTART;TZID=America/Vancouver:20240207T140000
DTEND;TZID=America/Vancouver:20240207T140100
DTSTAMP:20260423T110957
CREATED:20230518T230659Z
LAST-MODIFIED:20230518T231739Z
UID:10000047-1707314400-1707314460@prcemc.ca
SUMMARY:AC Siren Growl Test
DESCRIPTION:Test of the AC circuits – performs a low volume short siren GROWL
URL:https://prcemc.ca/event/ac-siren-growl-test/2024-02-07/
LOCATION:Fire Station #3 70 Predator Ridge Drive\, Vernon\, BC\, 70 Predator Ridge Drive\, Vernon\, BC\, Canada
CATEGORIES:Siren Growl Test
ATTACH;FMTTYPE=image/png:https://prcemc.ca/wp-content/uploads/2023/02/T-128-Photo-250x250-1.png
ORGANIZER;CN="PRCS":MAILTO:info@prcemc.ca
END:VEVENT
END:VCALENDAR